BEGIN:VCALENDAR
VERSION:2.0
PRODID:-//discoverpetworth - ECPv6.15.20//NONSGML v1.0//EN
CALSCALE:GREGORIAN
METHOD:PUBLISH
X-WR-CALNAME:discoverpetworth
X-ORIGINAL-URL:https://discoverpetworth.uk
X-WR-CALDESC:Events for discoverpetworth
REFRESH-INTERVAL;VALUE=DURATION:PT1H
X-Robots-Tag:noindex
X-PUBLISHED-TTL:PT1H
BEGIN:VTIMEZONE
TZID:UTC
BEGIN:STANDARD
TZOFFSETFROM:+0000
TZOFFSETTO:+0000
TZNAME:UTC
DTSTART:20250101T000000
END:STANDARD
END:VTIMEZONE
BEGIN:VTIMEZONE
TZID:UTC
BEGIN:STANDARD
TZOFFSETFROM:+0000
TZOFFSETTO:+0000
TZNAME:UTC
DTSTART:20250101T000000
END:STANDARD
END:VTIMEZONE
BEGIN:VEVENT
DTSTART;TZID=UTC:20260422T103000
DTEND;TZID=UTC:20260422T113000
DTSTAMP:20260422T123019
CREATED:20250625T140042Z
LAST-MODIFIED:20250625T140042Z
UID:10016547-1776853800-1776857400@discoverpetworth.uk
SUMMARY:Sculpt & Flow at Kiki Yoga and Wellness
DESCRIPTION:Every Wednesday  \n10.30am – 11.30am \nDesigned to sculpt and tone the upper and lower body\, using weights to strengthen and refine. Each class will combine a hybrid style of yoga and strength training to keep flexible & to reactivate “switched off” muscles. Using classic principles of yoga\, combined with the use of light weights\, expect to gain all the benefits helping you achieve a lean\, sculpted physique. Suitable for all fitness levels\, this class will leave you feeling stronger\, toned\, and leaner by increasing your metabolism. Plus improving posture\, stamina and endurance. A great way to support your body at any age but especially important for preventative care as our bodies naturally age.
URL:https://discoverpetworth.uk/event/kiki-yoga-and-wellness-2-2/2026-04-22/
LOCATION:Kiki Yoga and Wellness\, Studio: 1 Pound St\, Petworth\, West Sussex\, GU28 0DX
CATEGORIES:Event,In Petworth,One Time,PETWORTH
ATTACH;FMTTYPE=image/jpeg:https://discoverpetworth.uk/wp-content/uploads/2023/04/JT_092Large.jpeg
ORGANIZER;CN="Kiki Yoga and Wellness":MAILTO:info@kikiwellness.co.uk
END:VEVENT
BEGIN:VEVENT
DTSTART;TZID=UTC:20260422T140000
DTEND;TZID=UTC:20260422T153000
DTSTAMP:20260422T123019
CREATED:20250220T113036Z
LAST-MODIFIED:20250220T113036Z
UID:10013640-1776866400-1776871800@discoverpetworth.uk
SUMMARY:Board Games at Petworth Library
DESCRIPTION:Every Wednesday \n2.00pm – 3.30pm \nOur newest event at Petworth Library. Come along and play some board games\, all supplied by us. We have Scrabble\, Chess\, and Backgammon.
URL:https://discoverpetworth.uk/event/board-games-at-petworth-library/2026-04-22/
LOCATION:Petworth Library\, Petworth\, GU28 0AU
CATEGORIES:Entertainment,Event,In Petworth,One Time,PETWORTH
ATTACH;FMTTYPE=image/png:https://discoverpetworth.uk/wp-content/uploads/2025/02/Digital-Volunteer-Support-at-Petworth-Library-1.png
END:VEVENT
BEGIN:VEVENT
DTSTART;TZID=UTC:20260422T180000
DTEND;TZID=UTC:20260422T191500
DTSTAMP:20260422T123019
CREATED:20250625T135624Z
LAST-MODIFIED:20250625T135659Z
UID:10016288-1776880800-1776885300@discoverpetworth.uk
SUMMARY:Slow Flow & Restorative at Kiki Yoga & Wellness
DESCRIPTION:Every Wednesday \n6.00pm – 7.15pm \nA gentle\, slow\, restorative practice often incorporating yin yoga elements. Soothing the body\, mind and spirit. Often a mat-based practice using props\, bolsters\, and straps to support the body to gently open and release.  Always combining movement\, mindfulness and breathwork.  Suitable for all levels\, beginners and experienced yogis.
URL:https://discoverpetworth.uk/event/slow-flow-restorative-at-kiki-yoga-wellness/2026-04-22/
LOCATION:Kiki Yoga and Wellness\, Studio: 1 Pound St\, Petworth\, West Sussex\, GU28 0DX
CATEGORIES:Event,In Petworth,One Time,PETWORTH,Recreation
ATTACH;FMTTYPE=image/jpeg:https://discoverpetworth.uk/wp-content/uploads/2023/04/JT_092Large.jpeg
ORGANIZER;CN="Kiki Yoga and Wellness":MAILTO:info@kikiwellness.co.uk
END:VEVENT
BEGIN:VEVENT
DTSTART;TZID=UTC:20260422T191500
DTEND;TZID=UTC:20260422T214500
DTSTAMP:20260422T123019
CREATED:20200212T215930Z
LAST-MODIFIED:20250527T120841Z
UID:10015399-1776885300-1776894300@discoverpetworth.uk
SUMMARY:Leconfield Singers Weekly Rehearsals
DESCRIPTION:Every Wednesday\n\n7.45pm – 9.45pm\nJoin our choir! \nWe are a thriving mixed-voice choir of 100 members\, and whilst we do not audition members\, we are not short on ambition.  Through the expert guidance of our Musical Director\, Graham Wili\, we consistently achieve very high standards\, balanced with the sheer enjoyment of singing together and socialising with our favourite people!   Apart from performing in our Autumn\, Christmas and early Summer concerts\, we also embark on a hugely popular annual foreign tour in mid-July\, and have enjoyed singing in some of the most beautiful cathedrals and churches in Europe. \nWhilst we welcome experienced singers\, it doesn’t matter if you haven’t sung since your schooldays or can’t read music.  We pride ourselves on being a very friendly choir\, and if you want to sing and are willing to commit to attending rehearsals regularly\, you will be very welcome. \nWhere – The Herbert Shiner\, Petworth.
URL:https://discoverpetworth.uk/event/leconfield-singers-weekly-rehearsals-2-2020-12-23/2026-04-22/
LOCATION:Herbert Shiner School Hall\, South Grove\, Petworth\, gu28 0ee
CATEGORIES:Event,One Time,PETWORTH
ATTACH;FMTTYPE=image/jpeg:https://discoverpetworth.uk/wp-content/uploads/2020/02/Publicity3.jpg
END:VEVENT
END:VCALENDAR