BEGIN:VCALENDAR
VERSION:2.0
PRODID:-//discoverpetworth - ECPv6.15.20//NONSGML v1.0//EN
CALSCALE:GREGORIAN
METHOD:PUBLISH
X-WR-CALNAME:discoverpetworth
X-ORIGINAL-URL:https://discoverpetworth.uk
X-WR-CALDESC:Events for discoverpetworth
REFRESH-INTERVAL;VALUE=DURATION:PT1H
X-Robots-Tag:noindex
X-PUBLISHED-TTL:PT1H
BEGIN:VTIMEZONE
TZID:UTC
BEGIN:STANDARD
TZOFFSETFROM:+0000
TZOFFSETTO:+0000
TZNAME:UTC
DTSTART:20250101T000000
END:STANDARD
END:VTIMEZONE
BEGIN:VEVENT
DTSTART;TZID=UTC:20260423T110000
DTEND;TZID=UTC:20260423T120000
DTSTAMP:20260423T013233
CREATED:20250220T113511Z
LAST-MODIFIED:20250220T113607Z
UID:10013903-1776942000-1776945600@discoverpetworth.uk
SUMMARY:Tea and Chat at Petworth Library
DESCRIPTION:Every Thursday  \n11.00am – 12.00pm \nAn informal group that meets every Thursday for a cup of tea\, a biscuit\, and a chat.
URL:https://discoverpetworth.uk/event/tea-and-chat-at-petworth-library/2026-04-23/
LOCATION:Petworth Library\, Petworth\, GU28 0AU
CATEGORIES:Entertainment,Food & Drinks,In Petworth,One Time,PETWORTH
ATTACH;FMTTYPE=image/png:https://discoverpetworth.uk/wp-content/uploads/2025/02/Digital-Volunteer-Support-at-Petworth-Library-2.png
END:VEVENT
BEGIN:VEVENT
DTSTART;TZID=UTC:20260423T180000
DTEND;TZID=UTC:20260423T191500
DTSTAMP:20260423T013233
CREATED:20230419T204009Z
LAST-MODIFIED:20250625T172342Z
UID:10016781-1776967200-1776971700@discoverpetworth.uk
SUMMARY:Hatha Flow for core\, glute & midsection at Kiki Yoga and Wellness
DESCRIPTION:Every Thursday  \n6.00pm – 7.15pm \nA blended hatha yoga class with postures particularly focused on building a toned and strong centre. Cultivating strength in deeper abdominals and glutes.  Including muscles such as your pelvic floor\, abdominals\, glutes\, hips\, back muscles\, and diaphragm (the muscle that controls breathing). Together working with the spine to create stability in your midsection. But it’s not all about strong abs and glutes – these poses massage and stimulate your internal organs\, supporting digestion\, metabolism\, boosting energy and the immune system. \nWarm up\, work out\, breathe\, stretch it out. You won’t regret it!
URL:https://discoverpetworth.uk/event/kiki-yoga-and-wellness-thursday/2026-04-23/
LOCATION:Kiki Yoga and Wellness\, Studio: 1 Pound St\, Petworth\, West Sussex\, GU28 0DX
CATEGORIES:Event,In Petworth,One Time,PETWORTH
ATTACH;FMTTYPE=image/jpeg:https://discoverpetworth.uk/wp-content/uploads/2023/04/JT_092Large.jpeg
ORGANIZER;CN="Kiki Yoga and Wellness":MAILTO:info@kikiwellness.co.uk
END:VEVENT
BEGIN:VEVENT
DTSTART;TZID=UTC:20260423T183000
DTEND;TZID=UTC:20260423T200000
DTSTAMP:20260423T013234
CREATED:20250712T130746Z
LAST-MODIFIED:20250712T131225Z
UID:10018099-1776969000-1776974400@discoverpetworth.uk
SUMMARY:‘Breathe and Be…’ at Clinic 51
DESCRIPTION:24 JULY – 11 SEPTEMBER (THURSDAY’S ONLY) \n6.30pm – 8.00pm \nThese sessions offer a peaceful space to slow down\, breathe deeply\, and reconnect with yourself in a gentle and supportive way. Each class includes nourishing breathwork\, quiet meditation\, and time for personal reflection. \nWe’ll weave together functional breathing techniques with the ancient wisdom of pranayama\, offering practical tools to support your nervous system\, focus your mind\, and cultivate inner calm. Whether you’re completely new to breathwork or have been exploring the breath for some time\, the practices are accessible and deeply restorative. \nEach session will close with a collective reflection on the class theme—sharing a warm cuppa\, journaling\, or simply sitting in stillness. It’s also an opportunity to connect with others in a genuine and meaningful way\, if you wish. No rush. No pressure. Just spaciousness—to rest\, process\, and gently listen to whatever is stirring within. \nThese sessions are for anyone who feels the call to pause\, breathe\, and come back home to themselves. Whether you’re moving through change\, deepening your self-awareness\, or simply craving a pocket of calm\, you’ll be held in a safe\, welcoming space. \nTaking place 6.30 – 8pm on: \nThursday 24th July \nThursday 7th August \nThursday 21st August \nThursday 4th September \nThursday 11th September \nIndividual sessions are £19\, or book the block of five for £76 (5 for the price of 4)
URL:https://discoverpetworth.uk/event/breathe-and-be-at-clinic-51/2026-04-23/
LOCATION:Clinic 51\, The Black Barn\, Dye House Ln\, Duncton\, Petworth\, Petworth\, West Sussex\, GU28 0LF
CATEGORIES:Event,One Time,Out Petworth,Surroundings
ATTACH;FMTTYPE=image/jpeg:https://discoverpetworth.uk/wp-content/uploads/2025/07/BreathewithBecs.jpg
ORGANIZER;CN="Clinic 51":MAILTO:info@clinic51.co.uk
END:VEVENT
BEGIN:VEVENT
DTSTART;TZID=UTC:20260423T183000
DTEND;TZID=UTC:20260423T203000
DTSTAMP:20260423T013234
CREATED:20260115T192948Z
LAST-MODIFIED:20260115T193018Z
UID:10020034-1776969000-1776976200@discoverpetworth.uk
SUMMARY:X - Hale - Mindfulness and Wellbeing
DESCRIPTION:Every Thursday  \n6.30pm – 8.30pm \nJoin us for our weekly relaxation and craft-oriented activities specifically for young people! \nEach week\, participants will have the opportunity to explore new and exciting projects\, from making candles and jewellery to crafting bath bombs and engaging in yoga. Enjoy a fun mix of games\, arts\, and crafts in a  welcoming environment. Remember\, this is a booking-only session with only 12 places available\, so be sure to register on SchoolsBuddy to secure your spot.
URL:https://discoverpetworth.uk/event/x-hale-mindfulness-and-wellbeing/2026-04-23/
LOCATION:sylvia beaufoy youth club\, Midhurst Road\, Petworth\, West Sussex\, gu280et\, United Kingdom
CATEGORIES:Event,Film,Food & Drinks,In Petworth,One Time,PETWORTH
ATTACH;FMTTYPE=image/png:https://discoverpetworth.uk/wp-content/uploads/2026/01/Designer-2.png
END:VEVENT
BEGIN:VEVENT
DTSTART;TZID=UTC:20260423T184500
DTEND;TZID=UTC:20260423T210000
DTSTAMP:20260423T013234
CREATED:20260412T155448Z
LAST-MODIFIED:20260412T155448Z
UID:10020577-1776969900-1776978000@discoverpetworth.uk
SUMMARY:Petworth Town Council AGM
DESCRIPTION:23 APRIL 2026\n\n6.45pm – 9.00pm\n\nEveryone is welcome to come along to the Petworth Town Council AGM. Find out more about what the council have been working on over this past year.
URL:https://discoverpetworth.uk/event/petworth-town-council-agm-2/
LOCATION:Leconfield Hall
CATEGORIES:Event,Food & Drinks,In Petworth,One Time,PETWORTH
ATTACH;FMTTYPE=image/jpeg:https://discoverpetworth.uk/wp-content/uploads/2026/04/AGM-PTC.jpg
ORGANIZER;CN="Petworth Town Council":MAILTO:clerk@petworth-tc.gov.uk
END:VEVENT
END:VCALENDAR