BEGIN:VCALENDAR
VERSION:2.0
PRODID:-//discoverpetworth - ECPv6.15.20//NONSGML v1.0//EN
CALSCALE:GREGORIAN
METHOD:PUBLISH
X-ORIGINAL-URL:https://discoverpetworth.uk
X-WR-CALDESC:Events for discoverpetworth
REFRESH-INTERVAL;VALUE=DURATION:PT1H
X-Robots-Tag:noindex
X-PUBLISHED-TTL:PT1H
BEGIN:VTIMEZONE
TZID:UTC
BEGIN:STANDARD
TZOFFSETFROM:+0000
TZOFFSETTO:+0000
TZNAME:UTC
DTSTART:20250101T000000
END:STANDARD
END:VTIMEZONE
BEGIN:VEVENT
DTSTART;TZID=UTC:20261124T173000
DTEND;TZID=UTC:20261124T190000
DTSTAMP:20260422T222849
CREATED:20251208T130911Z
LAST-MODIFIED:20251208T130911Z
UID:10018918-1795541400-1795546800@discoverpetworth.uk
SUMMARY:Let's Talk Gardening with Gardens Revitalised
DESCRIPTION:Every Last Tuesday \n5.30pm – 7.00pm \nA monthly group where home and professional gardeners can meet to talk gardening\, swap ideas\, share seasonal tips and good practices\, troubleshoot\, identify plants and network. \nBooking is essential so that Tiffins know how many tables to set aside for the group
URL:https://discoverpetworth.uk/event/lets-talk-gardening-with-gardens-revitalised-17/
LOCATION:Tiffins Tea Room\, High Street\, Petworth\, West Sussex\, GU280AU\, United Kingdom
CATEGORIES:Event,Food & Drinks,In Petworth,One Time
ATTACH;FMTTYPE=image/jpeg:https://discoverpetworth.uk/wp-content/uploads/2024/12/Lets-Talk-Gardening.jpg
ORGANIZER;CN="Garden Revitalised":MAILTO:bev@gardensrevitalised.co.uk
END:VEVENT
END:VCALENDAR