BEGIN:VCALENDAR
VERSION:2.0
PRODID:-//discoverpetworth - ECPv6.15.20//NONSGML v1.0//EN
CALSCALE:GREGORIAN
METHOD:PUBLISH
X-ORIGINAL-URL:https://discoverpetworth.uk
X-WR-CALDESC:Events for discoverpetworth
REFRESH-INTERVAL;VALUE=DURATION:PT1H
X-Robots-Tag:noindex
X-PUBLISHED-TTL:PT1H
BEGIN:VTIMEZONE
TZID:UTC
BEGIN:STANDARD
TZOFFSETFROM:+0000
TZOFFSETTO:+0000
TZNAME:UTC
DTSTART:20200101T000000
END:STANDARD
END:VTIMEZONE
BEGIN:VEVENT
DTSTART;TZID=UTC:20250516T103000
DTEND;TZID=UTC:20250518T170000
DTSTAMP:20260422T133018
CREATED:20250407T185230Z
LAST-MODIFIED:20250407T185230Z
UID:10014706-1747391400-1747587600@discoverpetworth.uk
SUMMARY:The Petworth Park Antiques & Fine Art Fair
DESCRIPTION:16 – 18 MAY 2025 \nFriday 11.00am – 7.00pm \nSaturday 10.30am – 6.00pm \nSunday 10.30am – 5.00pm \nFollowing yet another successful fair in Petworth Park\, our next event there is scheduled to be held from Friday 16 to Sunday 18 May 2025 – the tenth anniversary of this popular show. \nThe famous National Trust property in the picturesque market town of Petworth has proved an ideal venue\, attracting thousands of eager visitors. In its spacious marquee\, the Petworth Park Antiques & Fine Art Fair has over 60 exhibitors\, predominantly members of The British Antique Dealers’ Association and LAPADA The Association of Art & Antiques Dealers. They offer for sale a wide range of desirable items such as fine period furniture\, clocks\, oil and watercolour paintings\, maps\, glass\, sculpture\, lighting\, vintage watches\, boxes\, silver and jewellery together with ceramics\, 20th century design objects\, drawings and prints\, textiles and carpets\, garden artefacts\, applied arts and many other decorative and unique works of art from the ancient to the contemporary. \nWe are very happy to again work with The National Trust at Petworth House as well as with the local dealer association PAADA and the Petworth Business Association\, creating yet another exciting event. The grand 17th century house boasts an internationally important art collection\, and together with its ‘Capability’ Brown landscaped country park\, it provides a magnificent backdrop for our annual fair. \nThe fair has its own free car park by the marquee – access is from the A272 Tillington Road through the gate at New Lodges. The AA signs will direct traffic to this entrance and not to the main car park on the A283\, where there is a charge of £4 for non-National Trust members. Disabled parking close to the fair entrance. The pedestrian entrance is via the Cricket Lodge gate\, also on the A272\, or via the Cowyard. \nA courtesy shuttle bus service will operate between the fair car park\, the entrance to Petworth House and the town centre\, running hourly between 11 am and 6 pm (5pm on Sunday). \nFair visitors enjoy free access to Petworth House during the three day event. National Trust members and Petworth House ticket holders may attend the antiques fair free of charge. \nLight refreshments are available in the restaurant inside the fair\, operated by The Naked Food Company. \nDogs that can be carried and guide/assistance dogs are welcome.
URL:https://discoverpetworth.uk/event/the-petworth-park-antiques-fine-art-fair-2/
LOCATION:Petworth Park\, Petworth
CATEGORIES:Arts,Event,Food & Drinks,In Petworth,On Going,PETWORTH
ATTACH;FMTTYPE=image/jpeg:https://discoverpetworth.uk/wp-content/uploads/2025/04/ADFL-logo.jpg
ORGANIZER;CN="The Antiques Dealers Fair Limited":MAILTO:info@adfl.co.uk
END:VEVENT
BEGIN:VEVENT
DTSTART;TZID=UTC:20240524T110000
DTEND;TZID=UTC:20240524T180000
DTSTAMP:20260422T133018
CREATED:20220210T123313Z
LAST-MODIFIED:20220210T123457Z
UID:10004926-1716548400-1716573600@discoverpetworth.uk
SUMMARY:The Petworth Park Antiques & Fine Art Fair
DESCRIPTION:13 – 15 MAY 2022 \nFriday 11.00am – 6.00pm \nSaturday 10.30am – 6.00pm \nSunday 10.30am – 5.00pm \nPleased to confirm the dates for The Petworth Park Antiques & Fine Art Fair to be held once again in the grounds of Petworth House this May 2022. Some 60 exhibitors will be joining us from around the country\, including some first timers bringing some new disciplines. \nTickets are £10 each and include free entry to Petworth House over the three days of the fair. National Trust members gain free entry to the fair. \nFollow us to keep informed or sign up to receive further information through our Easter newsletter at www.petworthparkfair.com
URL:https://discoverpetworth.uk/event/the-petworth-park-antiques-fine-art-fair-3/2024-05-24/
LOCATION:Petworth Park\, Petworth
CATEGORIES:Arts,Event,In Petworth,On Going,PETWORTH
ATTACH;FMTTYPE=image/jpeg:https://discoverpetworth.uk/wp-content/uploads/2022/02/273609705_4960078097420372_3751477474916497078_n.jpeg
ORGANIZER;CN="The Antiques Dealers Fair Limited":MAILTO:info@adfl.co.uk
END:VEVENT
BEGIN:VEVENT
DTSTART;TZID=UTC:20240517T103000
DTEND;TZID=UTC:20240519T170000
DTSTAMP:20260422T133018
CREATED:20240106T175747Z
LAST-MODIFIED:20240106T175747Z
UID:10007167-1715941800-1716138000@discoverpetworth.uk
SUMMARY:The Petworth Park Antiques & Fine Art Fair
DESCRIPTION:17 – 19 MAY 2024 \nFriday 11.00am – 7.00pm \nSaturday 10.30am- 6.00pm \nSunday 10.30am – 5.00pm \n£10 at the door – free re-admission with programme. \nOr print your own complimentary ticket from this site. \nFollowing nine successful years in Petworth Park\, our next fair is scheduled to be held from Friday 17 to Sunday 19 May 2024. The famous National Trust property in the picturesque market town of Petworth has proved an ideal venue\, attracting thousands of eager visitors. In its spacious marquee\, the Petworth Park Antiques & Fine Art Fair has over 60 exhibitors\, predominantly members of The British Antique Dealers’ Association and LAPADA The Association of Art & Antiques Dealers. They offer for sale a wide range of desirable items from period to modern furniture\, jewellery\, sculpture\, glass\, lighting\, vintage watches and silver to paintings\, drawings\, ceramics\, clocks\, 20th century design objects\, maps\, prints\, enamels\, objects of vertu\, aeronautica and many other decorative and unique works of art spanning the centuries. \nWe are very happy to again work with The National Trust at Petworth House as well as with the local dealer association PAADA and the Petworth Business Association\, creating yet another exciting event. The grand 17th century house boasts an internationally important art collection\, and together with its ‘Capability’ Brown landscaped country park\, it provides a magnificent backdrop for our annual fair. \nThe fair has its own free car park by the marquee – access is from the A272 Tillington Road through the gate at New Lodges. The AA signs will direct traffic to this entrance and not to the main car park on the A283\, where there is a charge of £4 for non-National Trust members. Disabled parking close to the fair entrance. The pedestrian entrance is via the Cricket Lodge gate\, also on the A272\, or via the Cowyard. \nFair visitors enjoy free access to Petworth House during the three day event. National Trust members and Petworth House ticket holders may attend the antiques fair free of charge. \nLight refreshments are available in the restaurant inside the fair\, operated by The Naked Food Company. \nDogs that can be carried and guide/assistance dogs are welcome.
URL:https://discoverpetworth.uk/event/the-petworth-park-antiques-fine-art-fair-5/
LOCATION:Petworth Park\, Petworth
CATEGORIES:Arts,Entertainment,Event,Food & Drinks,In Petworth,On Going,PETWORTH,Tours
ATTACH;FMTTYPE=image/jpeg:https://discoverpetworth.uk/wp-content/uploads/2024/01/wolseley1.jpg
ORGANIZER;CN="The Antiques Dealers Fair Limited":MAILTO:info@adfl.co.uk
END:VEVENT
BEGIN:VEVENT
DTSTART;TZID=UTC:20230519T110000
DTEND;TZID=UTC:20230521T170000
DTSTAMP:20260422T133018
CREATED:20230129T155441Z
LAST-MODIFIED:20230129T155441Z
UID:10006080-1684494000-1684688400@discoverpetworth.uk
SUMMARY:The Petworth Park Antiques & Fine Art Fair
DESCRIPTION:19–21 May 2023 \nFriday 11.00–18.00 | Saturday 10.30–18.00 | Sunday 10.30–17.00 \nFollowing eight successful years in Petworth Park\, the fair is scheduled to return 19-21 May 2023. The famous National Trust property in the picturesque market town of Petworth has proved an ideal venue\, attracting thousands of eager visitors. In its spacious marquee\, the Petworth Park Antiques & Fine Art Fair has around 60 exhibitors\, predominantly members of The British Antique Dealers’ Association and LAPADA The Association of Art & Antiques Dealers. They offer for sale a wide range of desirable items from furniture\, jewellery\, sculpture\, glass\, lighting\, photography\, vintage watches and silver to paintings\, drawings\, ceramics\, clocks\, 20th century design objects\, maps\, prints\, oriental carpets\, tribal art\, historical medals\, aeronautica\, garden ornaments and many other decorative and unique works of art spanning the centuries. \nWe are very happy to again work with The National Trust at Petworth House as well as with the local dealer association PAADA and the Petworth Business Association\, creating yet another exciting event. The grand 17th century house boasts an internationally important art collection\, and together with its ‘Capability’ Brown landscaped country park\, it provides a magnificent backdrop for our annual fair. \nThe fair has its own free car park by the marquee – access is from the A272 Tillington Road through the gate at New Lodges. The AA signs will direct traffic to this entrance and not to the main car park on the A283\, where there is a charge of £4 for non-National Trust members. Disabled parking close to the fair entrance. The pedestrian entrance is via the Cricket Lodge gate\, also on the A272\, or via the Cowyard. \nFair visitors enjoy free access to Petworth House during the three day event. National Trust members and Petworth House ticket holders may attend the antiques fair free of charge. \nLight refreshments are available outside the marquee and a fuller offering is provided in the restaurant inside the fair. \nDogs that can be carried and guide/assistance dogs are welcome. \nFor local information\, including details of hotels\, restaurants and things to do\, please visit www.discoverpetworth.uk
URL:https://discoverpetworth.uk/event/the-petworth-park-antiques-fine-art-fair-4/
LOCATION:Petworth Park\, Petworth
CATEGORIES:Arts,Event,Featured,In Petworth,On Going,PETWORTH
ATTACH;FMTTYPE=image/jpeg:https://discoverpetworth.uk/wp-content/uploads/2023/01/Antiques-fair-e1675007589475.jpeg
ORGANIZER;CN="The Antiques Dealers Fair Limited":MAILTO:info@adfl.co.uk
END:VEVENT
BEGIN:VEVENT
DTSTART;TZID=UTC:20210618T110000
DTEND;TZID=UTC:20210620T170000
DTSTAMP:20260422T133018
CREATED:20210407T173604Z
LAST-MODIFIED:20210915T190508Z
UID:10002688-1624014000-1624208400@discoverpetworth.uk
SUMMARY:The Petworth Park Antiques & Fine Art Fair
DESCRIPTION:18 – 20 JUNE 2021 \nFriday 11.00–18.00 | Saturday 10.30–18.00 | Sunday 10.30–17.00 \n\nWe are happy to announce that the fair is scheduled to take place between Friday 18 and Sunday 20 June\, having been postponed from May.\nThe Covid-19 situation is being carefully monitored and government guidance will be followed.\nWelcome to the seventh Petworth Park Antiques & Fine Art Fair\nAfter six successful years in Petworth Park\, we look forward to returning at the new date of 18-20 June. The famous National Trust property in the picturesque market town of Petworth has proved an ideal venue\, attracting thousands of eager visitors. In its socially distanced layout\, the Petworth Park Antiques & Fine Art Fair has around 60 exhibitors\, predominantly members of The British Antique Dealers’ Association and LAPADA The Association of Art & Antiques Dealers. They offer for sale a wide range of desirable items from furniture\, jewellery\, sculpture\, glass\, lighting\, vintage watches and silver to paintings\, drawings\, ceramics\, clocks\, 20th century design objects\, garden statuary\, historical medals\, aeronautica and many other decorative and unique works of art spanning the centuries. \nWe are very happy to again work with The National Trust at Petworth House as well as with the local dealer association PAADA and the Petworth Business Association\, creating yet another exciting event. The grand 17th century house boasts an internationally important art collection\, and together with its ‘Capability’ Brown landscaped country park\, it provides a magnificent backdrop for our annual fair. From 17 May\, Petworth House is open to the public\, without pre-booking on weekdays but on-line booking is recommended at weekends and during school holidays. \nThe fair has its own free car park by the marquee – access is from the A272 Tillington Road through the gate at New Lodges. The AA signs will direct traffic to this entrance and not to the main car park on the A283\, where there is a charge of £4 for non-National Trust members. The pedestrian entrance is via the Cricket Lodge gate\, also on the A272\, or the Cowyard. \nLight refreshments are available outside the Marquee. \nDogs that can be carried and guide/assistance dogs are welcome. \nFor local information\, including details of hotels\, restaurants and things to do\, please visit www.discoverpetworth.uk \n\nOpening hours\n\n\n\nFriday:\n11.00–18.00\n\n\nSaturday:\n10.30–18.00\n\n\nSunday:\n10.30–17.00\n\n\n\nAdmission\n£5 at the door – free re-admission with programme.\nOr print your own complimentary ticket from this site.
URL:https://discoverpetworth.uk/event/the-petworth-park-antiques-fine-art-fair/
LOCATION:Petworth Park\, Petworth
CATEGORIES:Arts,Entertainment,Event,In Petworth,On Going,PETWORTH
ATTACH;FMTTYPE=image/jpeg:https://discoverpetworth.uk/wp-content/uploads/2021/04/164981352_3886464334768737_4748140980172900480_n.jpeg
ORGANIZER;CN="The Antiques Dealers Fair Limited":MAILTO:info@adfl.co.uk
END:VEVENT
END:VCALENDAR