BEGIN:VCALENDAR
VERSION:2.0
PRODID:-//discoverpetworth - ECPv6.15.20//NONSGML v1.0//EN
CALSCALE:GREGORIAN
METHOD:PUBLISH
X-ORIGINAL-URL:https://discoverpetworth.uk
X-WR-CALDESC:Events for discoverpetworth
REFRESH-INTERVAL;VALUE=DURATION:PT1H
X-Robots-Tag:noindex
X-PUBLISHED-TTL:PT1H
BEGIN:VTIMEZONE
TZID:UTC
BEGIN:STANDARD
TZOFFSETFROM:+0000
TZOFFSETTO:+0000
TZNAME:UTC
DTSTART:20200101T000000
END:STANDARD
END:VTIMEZONE
BEGIN:VEVENT
DTSTART;TZID=UTC:20211025T090000
DTEND;TZID=UTC:20211025T113000
DTSTAMP:20260422T100420
CREATED:20210930T172352Z
LAST-MODIFIED:20210930T172352Z
UID:10002865-1635152400-1635161400@discoverpetworth.uk
SUMMARY:Wellbeing drop in morning
DESCRIPTION:9.00am – 11.30am \nFamily Support Practitioner working for Family Support Work – who are a registered charity that support vulnerable children and families throughout Sussex. Excitingly\, Family Support Work have now extended their service and have an active practitioner in the Petworth\, Midhurst and surrounding areas. \nFamily Support Practitioners are qualified professionals who work in their local areas with families referred to them. Family Support practitioners spend time getting to know their families before helping them to develop coping mechanisms\, working at their own pace to resolve their issues and improve their wellbeing and life chances. We offer support in a variety of ways: \n\n\n 	Home visits\n 	One-to-one support meetings\n 	Individual playwork\n 	Support groups and drop-ins\n 	Family activity sessions\n 	Signposting to other agencies\n 	Partnership/multi-agency working with other professional bodies.\n\nWe receive referrals from a number of Schools and education professionals\, Health and social care professionals\, Family Centres\, Churches\, Other voluntary organisations and self-referrals. \nThis is a drop in for families (with a child 0 – 16 years) \nThe idea is a place to meet for tea/coffee and chat with other families. I have invited other charities to attend on different weeks these include  Mind\, \nHomestart\, social prescriber\, family practitioner to come along to offer advice and support\, if required. Feedback back will be collected after 5 weeks and reviewed in terms of a facilitating a longer term group.
URL:https://discoverpetworth.uk/event/wellbeing-drop-in-morning/2021-10-25/
LOCATION:Herbert Shiner School Hall\, South Grove\, Petworth\, gu28 0ee
CATEGORIES:Event,In Petworth,One Time,PETWORTH
ATTACH;FMTTYPE=image/jpeg:https://discoverpetworth.uk/wp-content/uploads/2021/09/Petworth-Wellbeing-Drop-in.jpg
ORGANIZER;CN="Family Support Work":MAILTO:Kirsty@familysupportwork.org.uk
END:VEVENT
END:VCALENDAR