BEGIN:VCALENDAR
VERSION:2.0
PRODID:-//discoverpetworth - ECPv6.15.20//NONSGML v1.0//EN
CALSCALE:GREGORIAN
METHOD:PUBLISH
X-ORIGINAL-URL:https://discoverpetworth.uk
X-WR-CALDESC:Events for discoverpetworth
REFRESH-INTERVAL;VALUE=DURATION:PT1H
X-Robots-Tag:noindex
X-PUBLISHED-TTL:PT1H
BEGIN:VTIMEZONE
TZID:UTC
BEGIN:STANDARD
TZOFFSETFROM:+0000
TZOFFSETTO:+0000
TZNAME:UTC
DTSTART:20220101T000000
END:STANDARD
END:VTIMEZONE
BEGIN:VEVENT
DTSTART;TZID=UTC:20250405T120000
DTEND;TZID=UTC:20250406T160000
DTSTAMP:20260422T133357
CREATED:20250306T141002Z
LAST-MODIFIED:20250306T141002Z
UID:10014627-1743854400-1743955200@discoverpetworth.uk
SUMMARY:Paw-Pup Boutique Sale at Fitness Hub Petworth
DESCRIPTION:5 – 6 APRIL 2025 \n12.00pm – 4.00pm \nJoin us at the historical Petworth\, West Sussex for our pop-up shop selling new & pre-loved ladies dresses\, gowns\, gifts\, doggie items\, and K-9 Angels merchandise!\nBring your dog\, meet our founder and grab a cuppa and a muffin on us!
URL:https://discoverpetworth.uk/event/paw-pup-boutique-sale-at-fitness-hub-petworth/
LOCATION:Fitness Hub Petworth\, Market Square\, Petworth\, West Sussex\, GU28 0AH\, United Kingdom
CATEGORIES:Event,Food & Drinks,In Petworth,On Going,PETWORTH
ATTACH;FMTTYPE=image/jpeg:https://discoverpetworth.uk/wp-content/uploads/2025/03/K9-Angels-ad.jpg
ORGANIZER;CN="Fitness Hub Petworth":MAILTO:fitnesshubpetworth@outlook.com
END:VEVENT
BEGIN:VEVENT
DTSTART;TZID=UTC:20241122T180000
DTEND;TZID=UTC:20241122T200000
DTSTAMP:20260422T133357
CREATED:20241024T083741Z
LAST-MODIFIED:20241024T083741Z
UID:10009105-1732298400-1732305600@discoverpetworth.uk
SUMMARY:Women's Well-Being Evening! at Petworth Fitness Hub
DESCRIPTION:22 NOVEMBER 2024 \n6.00pm – 8.00pm \n\nJoin us for a nourishing experience dedicated to you! Begin the night with an insightful workshop on women’s nutrition\, hormones\, and overall health. Then\, unwind with a soothing sound bath\, and cap off your evening with a cosy hot drink and a delicious snack. \n\nhttps://bookwhen.com/fitnesshubpetworth/e/ev-s1el-20241122180000
URL:https://discoverpetworth.uk/event/womens-well-being-evening-at-petworth-fitness-hub/
LOCATION:Fitness Hub Petworth\, Market Square\, Petworth\, West Sussex\, GU28 0AH\, United Kingdom
CATEGORIES:Event,Food & Drinks,In Petworth,One Time,PETWORTH
ATTACH;FMTTYPE=image/png:https://discoverpetworth.uk/wp-content/uploads/2024/10/well-being-evening.png
ORGANIZER;CN="Fitness Hub Petworth":MAILTO:fitnesshubpetworth@outlook.com
END:VEVENT
BEGIN:VEVENT
DTSTART;TZID=UTC:20240930T200000
DTEND;TZID=UTC:20240930T210000
DTSTAMP:20260422T133357
CREATED:20240828T125350Z
LAST-MODIFIED:20240828T125413Z
UID:10009075-1727726400-1727730000@discoverpetworth.uk
SUMMARY:Sound Bath at Fitness Hub Petworth
DESCRIPTION:30 SEPTEMBER 2024 \n8.00pm – 9.00pm \nSound healing uses frequency and vibration to penetrate the body on a cellular level. It releases trapped energy and emotion\, so is perfect for a complete energy reset. \nYour only job here is to lay down get cosy and relax! \nInstructions \n\n\nTo ensure that you get the most out of your sound bath\, we recommend bringing a few simple items with you: \nA blanket – This will help you feel cozy and comfortable during the event. You can bring any type of blanket that you like\, but something soft and lightweight is recommended. \nA pillow (optional) – If you have a favourite pillow that brings you comfort\, feel free to bring it along! This can help you relax and feel more at ease during the sound bath. \nWear loose\, comfortable clothing that makes you feel relaxed. \nBring a water bottle with you\, as it can be helpful to stay hydrated during the experience.
URL:https://discoverpetworth.uk/event/sound-bath-at-fitness-hub-petworth/
LOCATION:Fitness Hub Petworth\, Market Square\, Petworth\, West Sussex\, GU28 0AH\, United Kingdom
CATEGORIES:Event,In Petworth,One Time,PETWORTH
ATTACH;FMTTYPE=image/jpeg:https://discoverpetworth.uk/wp-content/uploads/2024/08/Sound-Bath.jpeg
ORGANIZER;CN="Fitness Hub Petworth":MAILTO:fitnesshubpetworth@outlook.com
END:VEVENT
BEGIN:VEVENT
DTSTART;TZID=UTC:20240907T110000
DTEND;TZID=UTC:20240907T120000
DTSTAMP:20260422T133357
CREATED:20240823T120638Z
LAST-MODIFIED:20240823T120638Z
UID:10009073-1725706800-1725710400@discoverpetworth.uk
SUMMARY:Gaining Muscle and Losing Fat Workshop at Fitness Hub Petworth
DESCRIPTION:7 SEPTEMBER 2024 \n11.00am – 12.00pm \nJoin Abi for an empowering workshop designed to provide you with the tools and knowledge to gain muscle and lose weight sustainably! This comprehensive session blends science-backed information with practical strategies\, ensuring you leave with a clear plan to achieve your fitness goals.\nCovering the following topics: \n \n\n\n 	Understanding Muscle Gain and Fat Loss\n\n \n \n\n\n 	Nutrition Essentials\n\n \n \n\n\n 	Effective Training Techniques\n\n \n \n\n\n 	Sustainable Lifestyle Changes\n\n \n \n\n\n 	Mindset and Motivation\n\n 
URL:https://discoverpetworth.uk/event/gaining-muscle-and-losing-fat-workshop-at-fitness-hub-petworth/
LOCATION:Fitness Hub Petworth\, Market Square\, Petworth\, West Sussex\, GU28 0AH\, United Kingdom
CATEGORIES:Event,In Petworth,One Time,PETWORTH
ATTACH;FMTTYPE=image/png:https://discoverpetworth.uk/wp-content/uploads/2024/08/gaining-muscle-losing-fat.png
ORGANIZER;CN="Fitness Hub Petworth":MAILTO:fitnesshubpetworth@outlook.com
END:VEVENT
BEGIN:VEVENT
DTSTART;TZID=UTC:20240727T110000
DTEND;TZID=UTC:20240727T120000
DTSTAMP:20260422T133357
CREATED:20240607T142629Z
LAST-MODIFIED:20240607T142629Z
UID:10008768-1722078000-1722081600@discoverpetworth.uk
SUMMARY:Fitness Hub Petworth Workshop
DESCRIPTION:27 JULY 2024 \n11.00am – 12.00pm \nThis workshop aims to bring you complete clarity on how to care for your guy – and in extension\, your entire wellbeing. \nTo book a place visit www.fitnesshubpetworth.co.uk
URL:https://discoverpetworth.uk/event/fitness-hub-petworth-workshop/
LOCATION:Fitness Hub Petworth\, Market Square\, Petworth\, West Sussex\, GU28 0AH\, United Kingdom
CATEGORIES:Event,In Petworth,One Time,PETWORTH
ATTACH;FMTTYPE=image/jpeg:https://discoverpetworth.uk/wp-content/uploads/2024/06/243c2822-2f21-4bd6-a546-9eaf990d4d10.jpeg
ORGANIZER;CN="Fitness Hub Petworth":MAILTO:fitnesshubpetworth@outlook.com
END:VEVENT
BEGIN:VEVENT
DTSTART;TZID=UTC:20240716T190000
DTEND;TZID=UTC:20240716T200000
DTSTAMP:20260422T133357
CREATED:20240620T112035Z
LAST-MODIFIED:20240620T112035Z
UID:10008772-1721156400-1721160000@discoverpetworth.uk
SUMMARY:Sound Bath event at The Fitness Hub
DESCRIPTION:16 JULY 2024 \n7.00pm – 8.00pm \nImmerse yourself in a Sound Bath on 16 July\, 7-8pm for £20 – Members and £25 – Non members. \n 
URL:https://discoverpetworth.uk/event/sound-bath-event-at-the-fitness-hub/
LOCATION:Fitness Hub Petworth\, Market Square\, Petworth\, West Sussex\, GU28 0AH\, United Kingdom
CATEGORIES:Event,In Petworth,One Time,PETWORTH
ATTACH;FMTTYPE=image/png:https://discoverpetworth.uk/wp-content/uploads/2024/06/Sound-Bath-artwork.png
ORGANIZER;CN="Fitness Hub Petworth":MAILTO:fitnesshubpetworth@outlook.com
END:VEVENT
BEGIN:VEVENT
DTSTART;TZID=UTC:20240501T104500
DTEND;TZID=UTC:20240501T114500
DTSTAMP:20260422T133357
CREATED:20240425T103459Z
LAST-MODIFIED:20240425T103459Z
UID:10007235-1714560300-1714563900@discoverpetworth.uk
SUMMARY:Vitality Flow at Fitness Hub Petworth
DESCRIPTION:Every Wednesday  \n10.45am – 11.45am \nA chance for those who are not able or confident enough to attend our regular classes due to physical challenges. \nInvolving body weight exercises & seated options for those who are less mobile. Offering a versatile workout that caters to different needs & abilities\, with options for each exercise so that anyone can do it\, but also a progression option for those who want to push themselves a little.
URL:https://discoverpetworth.uk/event/vitality-flow-at-fitness-hub-petworth/
LOCATION:Fitness Hub Petworth\, Market Square\, Petworth\, West Sussex\, GU28 0AH\, United Kingdom
CATEGORIES:Event,In Petworth,One Time,PETWORTH
ATTACH;FMTTYPE=image/jpeg:https://discoverpetworth.uk/wp-content/uploads/2024/04/18a0ee1a-8312-c881-18a9-4b512f3dffc0.jpeg
ORGANIZER;CN="Fitness Hub Petworth":MAILTO:fitnesshubpetworth@outlook.com
END:VEVENT
BEGIN:VEVENT
DTSTART;TZID=UTC:20240430T093000
DTEND;TZID=UTC:20240430T103000
DTSTAMP:20260422T133357
CREATED:20240426T083036Z
LAST-MODIFIED:20240426T083036Z
UID:10007236-1714469400-1714473000@discoverpetworth.uk
SUMMARY:Rebounder at Fitness Hub Petworth
DESCRIPTION:Every Tuesday  \n9.30am – 10.30am \nA fun and low impact exercise with a multitude of health and fitness benefits – increasing bone density\, strengthening pelvic floor and core back muscles\, stimulating lymphatic flow\, helping co-ordination and balance\, and many more. \nA blend of cardio\, strengthening and stretching exercises to music on Bellicon mini rebounder trampolines. Rebounding has been proven to be more effective at burning fat and calories than jogging.\nA highly effective and thoroughly uplifting form of exercise\, as with every bounce the metabolic performance of the body is improved through the tension and relaxation of cells and muscles.
URL:https://discoverpetworth.uk/event/rebounder-at-fitness-hub-petworth/
LOCATION:Fitness Hub Petworth\, Market Square\, Petworth\, West Sussex\, GU28 0AH\, United Kingdom
CATEGORIES:Event,In Petworth,One Time,PETWORTH
ATTACH;FMTTYPE=image/jpeg:https://discoverpetworth.uk/wp-content/uploads/2024/04/Rebounder-class-Emma.jpeg
ORGANIZER;CN="Fitness Hub Petworth":MAILTO:fitnesshubpetworth@outlook.com
END:VEVENT
BEGIN:VEVENT
DTSTART;TZID=UTC:20240429T193000
DTEND;TZID=UTC:20240429T203000
DTSTAMP:20260422T133357
CREATED:20240426T085240Z
LAST-MODIFIED:20240426T085240Z
UID:10007237-1714419000-1714422600@discoverpetworth.uk
SUMMARY:Power sculpt at Fitness Hub Petworth
DESCRIPTION:Every Monday  \n7.30pm – 8.30pm \nA comprehensive strength class that targets muscle building and toning using dumbbells\, resistance bands\, and body weight. Including a variety of exercises to challenge different muscle groups\, enhance overall strength\, and promote muscle toning. \nExpect a well-rounded workout that combines traditional strength training with functional movements. Individuals of all fitness levels can benefit from this inclusive and effective strength training class. \n 
URL:https://discoverpetworth.uk/event/power-sculpt-at-fitness-hub-petworth/
LOCATION:Fitness Hub Petworth\, Market Square\, Petworth\, West Sussex\, GU28 0AH\, United Kingdom
CATEGORIES:Event,In Petworth,One Time,PETWORTH
ATTACH;FMTTYPE=image/jpeg:https://discoverpetworth.uk/wp-content/uploads/2024/04/powersculpt-class-Gareth.jpeg
ORGANIZER;CN="Fitness Hub Petworth":MAILTO:fitnesshubpetworth@outlook.com
END:VEVENT
BEGIN:VEVENT
DTSTART;TZID=UTC:20240426T110000
DTEND;TZID=UTC:20240426T120000
DTSTAMP:20260422T133357
CREATED:20240426T092722Z
LAST-MODIFIED:20240426T092722Z
UID:10007239-1714129200-1714132800@discoverpetworth.uk
SUMMARY:Rebounder at Fitness Hub Petworth
DESCRIPTION:Every Friday \n11.00am – 12.00pm \nA fun and low impact exercise with a multitude of health and fitness benefits – increasing bone density\, strengthening pelvic floor and core back muscles\, stimulating lymphatic flow\, helping co-ordination and balance\, and many more. \nA blend of cardio\, strengthening and stretching exercises to music on Bellicon mini rebounder trampolines. Rebounding has been proven to be more effective at burning fat and calories than jogging. \nA highly effective and thoroughly uplifting form of exercise\, as with every bounce the metabolic performance of the body is improved through the tension and relaxation of cells and muscles.
URL:https://discoverpetworth.uk/event/rebounder-at-fitness-hub-petworth-2/
LOCATION:Fitness Hub Petworth\, Market Square\, Petworth\, West Sussex\, GU28 0AH\, United Kingdom
CATEGORIES:Event,In Petworth,One Time,PETWORTH
ATTACH;FMTTYPE=image/jpeg:https://discoverpetworth.uk/wp-content/uploads/2024/04/Rebounder-class-Emma.jpeg
ORGANIZER;CN="Fitness Hub Petworth":MAILTO:fitnesshubpetworth@outlook.com
END:VEVENT
BEGIN:VEVENT
DTSTART;TZID=UTC:20240425T193000
DTEND;TZID=UTC:20240425T203000
DTSTAMP:20260422T133357
CREATED:20240425T100918Z
LAST-MODIFIED:20240425T100918Z
UID:10007234-1714073400-1714077000@discoverpetworth.uk
SUMMARY:Move and Stretch at Fitness Hub Petworth
DESCRIPTION:Every Thursday  \n7.30pm – 8.30pm \nA class designed to ease tension and work on muscle groups to stretch and strengthen. \nA gentle yet effective way to start your journey towards better flexibility & relaxation and a great way to improve mobility and release stress through targeted stretching exercises. \nSuitable for those who engage in frequent workouts to optimise recovery & improve overall performance\, as-well as those beginning their fitness journey. 
URL:https://discoverpetworth.uk/event/move-and-stretch-at-fitness-hub-petworth/
LOCATION:Fitness Hub Petworth\, Market Square\, Petworth\, West Sussex\, GU28 0AH\, United Kingdom
CATEGORIES:Event,In Petworth,One Time,PETWORTH
ATTACH;FMTTYPE=image/jpeg:https://discoverpetworth.uk/wp-content/uploads/2024/04/125247c7-b500-d3d7-b9eb-35734936e54a.jpeg
ORGANIZER;CN="Fitness Hub Petworth":MAILTO:fitnesshubpetworth@outlook.com
END:VEVENT
BEGIN:VEVENT
DTSTART;TZID=UTC:20231027T093000
DTEND;TZID=UTC:20231027T103000
DTSTAMP:20260422T133357
CREATED:20231025T182201Z
LAST-MODIFIED:20240426T092434Z
UID:10006704-1698399000-1698402600@discoverpetworth.uk
SUMMARY:Barre at Fitness Hub Petworth
DESCRIPTION:Every Friday \n9.30am – 10.30am \nA strength training Pilates based workout\, with no cardio or jumping. Challenging your core for balance\, improving your strength\, balance\, power and flexibility\, it really is an all rounder! Each exercise can be modified or challenged to ensure it is suitable for all abilities
URL:https://discoverpetworth.uk/event/barre-at-fitness-hub-petworth/
LOCATION:Fitness Hub Petworth\, Market Square\, Petworth\, West Sussex\, GU28 0AH\, United Kingdom
CATEGORIES:Event,In Petworth,One Time,PETWORTH
ATTACH;FMTTYPE=image/png:https://discoverpetworth.uk/wp-content/uploads/2023/09/logo-final.png
ORGANIZER;CN="Fitness Hub Petworth":MAILTO:fitnesshubpetworth@outlook.com
END:VEVENT
END:VCALENDAR