BEGIN:VCALENDAR
VERSION:2.0
PRODID:-//discoverpetworth - ECPv6.15.20//NONSGML v1.0//EN
CALSCALE:GREGORIAN
METHOD:PUBLISH
X-ORIGINAL-URL:https://discoverpetworth.uk
X-WR-CALDESC:Events for discoverpetworth
REFRESH-INTERVAL;VALUE=DURATION:PT1H
X-Robots-Tag:noindex
X-PUBLISHED-TTL:PT1H
BEGIN:VTIMEZONE
TZID:UTC
BEGIN:STANDARD
TZOFFSETFROM:+0000
TZOFFSETTO:+0000
TZNAME:UTC
DTSTART:20220101T000000
END:STANDARD
END:VTIMEZONE
BEGIN:VEVENT
DTSTART;TZID=UTC:20260109T103000
DTEND;TZID=UTC:20260109T120000
DTSTAMP:20260422T214319
CREATED:20260103T124336Z
LAST-MODIFIED:20260103T124336Z
UID:10018933-1767954600-1767960000@discoverpetworth.uk
SUMMARY:Petworth Park History Walk
DESCRIPTION:9 JANUARY 2026 \n10.30am – 12.00pm \nA chance to have a guided tour of the history of Petworth Park over 1000 years. We will see and hear about all the main historic sites and how the Park has grown and its use changed over the centuries\, as well as hopefully see the deer. \nMeet: The Horse Guards Inn\, Upperton Road\, Tillington\, GU28 9AF. SU963 220. By car: 1 mile west from Petworth on A272 then in the middle of Tillington\, turn north following brown tourist sign to The Horse Guards. Parking in road. Leader: Gerald on 07748 597 568 on day of walk only. \nBus: No.1 Midhurst or Worthing to Tillington///lifted.using.earlobes \nContact Gerald if uncertain on 07748 597 568. Dogs are welcome.
URL:https://discoverpetworth.uk/event/petworth-park-history-walk/
LOCATION:The Horse Guards Inn\, Upperton Road\, Tillington\, GU28 9AF\, United Kingdom
CATEGORIES:Event,In Petworth,One Time,PETWORTH,Recreation
ATTACH;FMTTYPE=image/jpeg:https://discoverpetworth.uk/wp-content/uploads/2026/01/Heartsmart-walk-PP-1-scaled.jpg
END:VEVENT
BEGIN:VEVENT
DTSTART;TZID=UTC:20250619T103000
DTEND;TZID=UTC:20250619T123000
DTSTAMP:20260422T214319
CREATED:20250607T164145Z
LAST-MODIFIED:20250607T164145Z
UID:10015718-1750329000-1750336200@discoverpetworth.uk
SUMMARY:Ancient Tree Walk in Petworth Park
DESCRIPTION:19 JUNE 2025 \n10.30am – 12.30pm \nPART 2 of the Ancient Tree Walk. Marvel at some of the oldest and largest trees in the country\, from 350-800 years old. See an unusual hollow Common Lime (this is difficult to age as the trunk has fragmented\, but perhaps it is 500 to 600 years old\, with a girth of 7.46m). The Park is also dotted with magnificent oaks \, beeches and chestnuts with some of the most ancient trees in Europe.  \nOur walk passes Capability Brown’s famous view across Upper Pond to the House. \nMeet:  The Horse Guards Inn\, Upperton Road\, Tillington\, GU28 9AF. SU963 220. \nBy Car: 1 mile west from Petworth on A272\, then\, in the middle of Tillington\, turn north following brown tourist sign to The Horse Guards. Parking in road. \nBy Bus No.1 from Worthing to Midhurst \nTelephone\, if uncertain\, Gerald on 07748 597 568. Dogs welcome. \nAs this is not a Heartsmart Walk\, but a Friends of the South Downs walk ALL BOOKINGS TO GERALD at \n Gerald Greshamcooke@gmail.com
URL:https://discoverpetworth.uk/event/ancient-tree-walk-in-petworth-park/
LOCATION:Petworth Park\, Petworth
CATEGORIES:Event,In Petworth,PETWORTH,Recreation,Tours
ATTACH;FMTTYPE=image/jpeg:https://discoverpetworth.uk/wp-content/uploads/2025/06/Petworth-Park-walks-scaled.jpg
END:VEVENT
BEGIN:VEVENT
DTSTART;TZID=UTC:20250221T103000
DTEND;TZID=UTC:20250221T120000
DTSTAMP:20260422T214319
CREATED:20250131T133550Z
LAST-MODIFIED:20250131T133550Z
UID:10013255-1740133800-1740139200@discoverpetworth.uk
SUMMARY:Hearthsmart Walks - Petworth Park History
DESCRIPTION:21 FEBRUARY 2025 \n10.30am – 12.00pm \nLeader: Gerald \nDuration:1.5 hours Distance: 3 miles. A chance to have a guided tour of the history of Petworth Park over 1000 years. We will see and hear about all the main historic sites and how the Park has grown\, and its use changed over the centuries\, as well as hopefully see the deer. \nMeet: The Horse Guards Inn\, Upperton Road\, Tillington\, GU28 9AF. SU963 220. \nBy Car: 1 mile west from Petworth on A272 then in the middle of Tillington\, turn north following brown tourist sign to The Horse Guards. Parking in road. \nBus: No.1 Midhurst or Worthing to Tillington///lifted.using.earlobes \nContact Gerald if uncertain on 07748 597 568. Dogs are welcome.
URL:https://discoverpetworth.uk/event/hearthsmart-walks-petworth-park-history/
LOCATION:The Horse Guards Inn\, Upperton Road\, Tillington\, GU28 9AF\, United Kingdom
CATEGORIES:Event,In Petworth,One Time,PETWORTH,Recreation,Tours
ATTACH;FMTTYPE=image/jpeg:https://discoverpetworth.uk/wp-content/uploads/2022/06/park.jpeg
END:VEVENT
BEGIN:VEVENT
DTSTART;TZID=UTC:20230817T103000
DTEND;TZID=UTC:20230817T123000
DTSTAMP:20260422T214319
CREATED:20230810T192941Z
LAST-MODIFIED:20230810T192941Z
UID:10006290-1692268200-1692275400@discoverpetworth.uk
SUMMARY:Local Walk - Petworth via Shimmings Valley
DESCRIPTION:17 AUGUST 2023 \n10.30am – 12.00pm \nDuration: 1 & half hours. Distance: 3 miles. See “Litte Switzerland”\, as the locals call the beautiful Shimmings Valley (east side of Petworth). \nA long but beautiful slope to Lover’s Lane and Brinksole Heath (see the best sign in Sussex) via Lovers Lane\, and return via Byworth\, crossing the Haslingbourne stream and back via Virgin Mary Spring . \nMeet: Petworth Library\, Rosemary Lane\, High St\, Petworth GU28 0AU. Inside the Library if wet. \nBy Car: Park in main Petworth town centre Car Park (ample room) & 3 minute walk East from toilets\, up passageway to Rosemary Lane. Library on left. If coming via High Street\, opp. Petworth Cottage Museum. \nBy Bus : No. 1 Midhurst or Worthing to Petworth \nContact Gerald if uncertain\, on 07748 597 568. Dogs are welcome.
URL:https://discoverpetworth.uk/event/local-walk-petworth-via-shimmings-valley/
LOCATION:Petworth Library\, Petworth\, GU28 0AU
CATEGORIES:Event,In Petworth,One Time,PETWORTH,Recreation,Tours
ATTACH;FMTTYPE=image/jpeg:https://discoverpetworth.uk/wp-content/uploads/2023/08/Shimmings-valley-scaled.jpg
END:VEVENT
END:VCALENDAR