BEGIN:VCALENDAR
VERSION:2.0
PRODID:-//discoverpetworth - ECPv6.15.20//NONSGML v1.0//EN
CALSCALE:GREGORIAN
METHOD:PUBLISH
X-WR-CALNAME:discoverpetworth
X-ORIGINAL-URL:https://discoverpetworth.uk
X-WR-CALDESC:Events for discoverpetworth
REFRESH-INTERVAL;VALUE=DURATION:PT1H
X-Robots-Tag:noindex
X-PUBLISHED-TTL:PT1H
BEGIN:VTIMEZONE
TZID:UTC
BEGIN:STANDARD
TZOFFSETFROM:+0000
TZOFFSETTO:+0000
TZNAME:UTC
DTSTART:20200101T000000
END:STANDARD
END:VTIMEZONE
BEGIN:VEVENT
DTSTART;TZID=UTC:20211120T093000
DTEND;TZID=UTC:20211120T163000
DTSTAMP:20260423T021753
CREATED:20211118T133921Z
LAST-MODIFIED:20211118T133921Z
UID:10002669-1637400600-1637425800@discoverpetworth.uk
SUMMARY:Petworth Pop Up - Christmas Shopping
DESCRIPTION:20 NOVEMBER 2021 \n9.30am – 4.30pm \nPetworth Pop Up – will be hosting its 5th Pop Up in the Towns Leconfield Hall. With over 25 incredible makers and creators selling their beautiful handmade work. From Candles\, Skincare\, Art\, Textiles\, Ceramics\, Sweet Treats and much more! A perfect opportunity to start your Christmas Shopping!
URL:https://discoverpetworth.uk/event/petworth-pop-up-christmas-shopping/
LOCATION:Leconfield Hall
CATEGORIES:Event,In Petworth,One Time,PETWORTH
ATTACH;FMTTYPE=image/jpeg:https://discoverpetworth.uk/wp-content/uploads/2021/11/246403649_244992991020956_2113253282196159345_n.jpeg
ORGANIZER;CN="Petworth Pop Up":MAILTO:petworthpopup@outlook.com
END:VEVENT
BEGIN:VEVENT
DTSTART;TZID=UTC:20211002T093000
DTEND;TZID=UTC:20211002T163000
DTSTAMP:20260423T021753
CREATED:20210928T072900Z
LAST-MODIFIED:20210928T072900Z
UID:10002860-1633167000-1633192200@discoverpetworth.uk
SUMMARY:Petworth Pop Up
DESCRIPTION:2 OCTOBER 2021 \n9.30am – 4.30pm \nA indoor makers market. Full of beautiful handcrafted home accessories\, gifts\, art and sweet treats. Spanning over 2 floors. \nCakes\, coffee & tea available to takeaway.
URL:https://discoverpetworth.uk/event/petworth-pop-up-3/
LOCATION:Leconfield Hall
CATEGORIES:Arts,Event,Food & Drinks,In Petworth,One Time,PETWORTH
ATTACH;FMTTYPE=image/png:https://discoverpetworth.uk/wp-content/uploads/2021/09/Screenshot-2021-09-28-at-08.28.13.png
ORGANIZER;CN="Petworth Pop Up":MAILTO:petworthpopup@outlook.com
END:VEVENT
BEGIN:VEVENT
DTSTART;TZID=UTC:20210807T090000
DTEND;TZID=UTC:20210807T170000
DTSTAMP:20260423T021753
CREATED:20210807T090000Z
LAST-MODIFIED:20210805T202732Z
UID:10002802-1628326800-1628355600@discoverpetworth.uk
SUMMARY:Petworth Pop Up
DESCRIPTION:7 AUGUST 2021 \n9.00am – 5.00pm \nThis Saturday 7th we will be hosting our 2nd Petworth Pop Up in the towns Leconfield Hall. It’s FREE to enter! There will be local makers selling a whole host of loveliness as well as cake! And take away tea & coffee! 
URL:https://discoverpetworth.uk/event/petworth-pop-up-2/
LOCATION:Leconfield Hall
CATEGORIES:Arts,Event,In Petworth,One Time,PETWORTH
ATTACH;FMTTYPE=image/jpeg:https://discoverpetworth.uk/wp-content/uploads/2021/08/229571633_1269570916795271_7223679482112016323_n.jpeg
ORGANIZER;CN="Petworth Pop Up":MAILTO:petworthpopup@outlook.com
END:VEVENT
BEGIN:VEVENT
DTSTART;TZID=UTC:20210703T090000
DTEND;TZID=UTC:20210703T170000
DTSTAMP:20260423T021753
CREATED:20210610T102355Z
LAST-MODIFIED:20210610T115057Z
UID:10002720-1625302800-1625331600@discoverpetworth.uk
SUMMARY:Petworth Pop Up
DESCRIPTION:3 JULY 2021 \n9.00am – 5.00pm \nLaunching our 1st Petworth Pop Up in Petworth Leconfield Hall. A space for all makers and creators to showcase and sell their work.
URL:https://discoverpetworth.uk/event/petworth-pop-up/
LOCATION:Leconfield Hall
CATEGORIES:Event,In Petworth,One Time
ATTACH;FMTTYPE=image/jpeg:https://discoverpetworth.uk/wp-content/uploads/2021/06/176880257_124130213107235_8177565409679621342_n.jpeg
ORGANIZER;CN="Petworth Pop Up":MAILTO:petworthpopup@outlook.com
END:VEVENT
END:VCALENDAR