BEGIN:VCALENDAR
VERSION:2.0
PRODID:-//discoverpetworth - ECPv6.15.20//NONSGML v1.0//EN
CALSCALE:GREGORIAN
METHOD:PUBLISH
X-ORIGINAL-URL:https://discoverpetworth.uk
X-WR-CALDESC:Events for discoverpetworth
REFRESH-INTERVAL;VALUE=DURATION:PT1H
X-Robots-Tag:noindex
X-PUBLISHED-TTL:PT1H
BEGIN:VTIMEZONE
TZID:UTC
BEGIN:STANDARD
TZOFFSETFROM:+0000
TZOFFSETTO:+0000
TZNAME:UTC
DTSTART:20250101T000000
END:STANDARD
END:VTIMEZONE
BEGIN:VEVENT
DTSTART;TZID=UTC:20260423T184500
DTEND;TZID=UTC:20260423T210000
DTSTAMP:20260422T163325
CREATED:20260412T155448Z
LAST-MODIFIED:20260412T155448Z
UID:10020577-1776969900-1776978000@discoverpetworth.uk
SUMMARY:Petworth Town Council AGM
DESCRIPTION:23 APRIL 2026\n\n6.45pm – 9.00pm\n\nEveryone is welcome to come along to the Petworth Town Council AGM. Find out more about what the council have been working on over this past year.
URL:https://discoverpetworth.uk/event/petworth-town-council-agm-2/
LOCATION:Leconfield Hall
CATEGORIES:Event,Food & Drinks,In Petworth,One Time,PETWORTH
ATTACH;FMTTYPE=image/jpeg:https://discoverpetworth.uk/wp-content/uploads/2026/04/AGM-PTC.jpg
ORGANIZER;CN="Petworth Town Council":MAILTO:clerk@petworth-tc.gov.uk
END:VEVENT
END:VCALENDAR