BEGIN:VCALENDAR
VERSION:2.0
PRODID:-//discoverpetworth - ECPv6.15.20//NONSGML v1.0//EN
CALSCALE:GREGORIAN
METHOD:PUBLISH
X-ORIGINAL-URL:https://discoverpetworth.uk
X-WR-CALDESC:Events for discoverpetworth
REFRESH-INTERVAL;VALUE=DURATION:PT1H
X-Robots-Tag:noindex
X-PUBLISHED-TTL:PT1H
BEGIN:VTIMEZONE
TZID:UTC
BEGIN:STANDARD
TZOFFSETFROM:+0000
TZOFFSETTO:+0000
TZNAME:UTC
DTSTART:20190101T000000
END:STANDARD
END:VTIMEZONE
BEGIN:VEVENT
DTSTART;TZID=UTC:20220602T200000
DTEND;TZID=UTC:20220602T220000
DTSTAMP:20260422T193335
CREATED:20220508T101357Z
LAST-MODIFIED:20220531T135518Z
UID:10002835-1654200000-1654207200@discoverpetworth.uk
SUMMARY:Platinum Jubilee - Beacon Lighting
DESCRIPTION:2 JUNE 2022 \nVarious Times \n\n1pm – Nigel Flynn (Town Crier) for the proclamation\n8.45pm – Leconfield Singers\n9.09pm Lucy Fanshaw (piper) to play Diu Regnare and lighting of the beacon\n9.20pm – Leconfield Singers.\nThroughout the event\, Sylvia Beaufoy Youth Club will be serving refreshments.\n 
URL:https://discoverpetworth.uk/event/platinum-jubilee-beacon-lighting/
LOCATION:Rosemary Gardens
CATEGORIES:Event,Featured,In Petworth,One Time,PETWORTH
ATTACH;FMTTYPE=image/jpeg:https://discoverpetworth.uk/wp-content/uploads/2022/05/Beacon-Lighting-e1652004939541.jpeg
ORGANIZER;CN="Petworth Town Council":MAILTO:clerk@petworth-tc.gov.uk
END:VEVENT
BEGIN:VEVENT
DTSTART;TZID=UTC:20211204T110000
DTEND;TZID=UTC:20211204T193000
DTSTAMP:20260422T193335
CREATED:20211014T112322Z
LAST-MODIFIED:20211014T112322Z
UID:10002871-1638615600-1638646200@discoverpetworth.uk
SUMMARY:Petworth Christmas Event
DESCRIPTION:4 DECEMBER 2021 \n11.00am – 7.30pm \nAfter a successful event in 2019 and a COVID break in 2020\, we are pleased to announce that the Petworth Christmas Event is back on Saturday 4th December. We will have a full day of events starting from 11am\, if not sooner with stalls around town\, live entertainment\, beautiful Window Displays\, Live Windows later in the date and plenty of activities in Leconfield Hall\,. \nOur shops will be decorated up too with the theme of Peace\, Hope & Joy and after the year and half we have all had we hope to deliver a wonderful community family orientated event for all!
URL:https://discoverpetworth.uk/event/petworth-christmas-event/
LOCATION:Petworth
CATEGORIES:Arts,Entertainment,Featured,Food & Drinks,In Petworth,PETWORTH
ATTACH;FMTTYPE=image/jpeg:https://discoverpetworth.uk/wp-content/uploads/2021/10/238554600_4162602897186210_1143347228621949195_n.jpeg
ORGANIZER;CN="Petworth Town Council":MAILTO:clerk@petworth-tc.gov.uk
END:VEVENT
BEGIN:VEVENT
DTSTART;TZID=UTC:20211031T090000
DTEND;TZID=UTC:20211121T150000
DTSTAMP:20260422T193335
CREATED:20211027T103627Z
LAST-MODIFIED:20211027T103627Z
UID:10002643-1635670800-1637506800@discoverpetworth.uk
SUMMARY:Christmas Lights going up - Please help!
DESCRIPTION:31 OCTOBER – 21 NOVEMBER 2021\n\n9.00am – 3.00pm \n\n\n\nThe Christmas Lights will start to be put up this Sunday (31st) starting at 9am from Council office so feel free to come along this or any Sunday in early November to help out.\nThe Christmas tree will go up on Friday 19th Nov and be decorated on Saturday 20th.\nAs always extra help makes light work\, the team would always appreciate a hot cuppa or more if anyone is happy to provide this.
URL:https://discoverpetworth.uk/event/christmas-lights-going-up-please-help/
LOCATION:Petworth
CATEGORIES:Event,In Petworth,On Going,PETWORTH
ATTACH;FMTTYPE=image/jpeg:https://discoverpetworth.uk/wp-content/uploads/2021/10/IMG_4859-scaled.jpg
ORGANIZER;CN="Petworth Town Council":MAILTO:clerk@petworth-tc.gov.uk
END:VEVENT
BEGIN:VEVENT
DTSTART;TZID=UTC:20210409T093000
DTEND;TZID=UTC:20210409T123000
DTSTAMP:20260422T193335
CREATED:20210408T094322Z
LAST-MODIFIED:20210408T094322Z
UID:10002690-1617960600-1617971400@discoverpetworth.uk
SUMMARY:Petworth Spring Tidy Up
DESCRIPTION:9 APRIL 2021\n9.30am – 12.30pm \n\nHelp Tidy Up Your Town!\n\nPetworth Town Council’s In Bloom volunteers\, in co-ordination with Petworth Business Association\, would like to support local businesses opening again on 12th April by holding a Spring Tidy Up. \nWe are asking for volunteers to weed\, sweep\, pick up litter and remove fly positing\, from 9.30am on 9th April. \nPlease bring your own gloves and tools and abide by the social distancing rules. \nSpecial plastic sacks will be available from the Council Offices from 9.30am and should be returned there for collection. \nThanks for your support!
URL:https://discoverpetworth.uk/event/petworth-spring-tidy-up/
LOCATION:Petworth Town Council\, Golden Square\, The Old Bakery\, Petworth\, West sussex\, GU28 0AP\, United Kingdom
CATEGORIES:Event,In Petworth,One Time,PETWORTH
ATTACH;FMTTYPE=image/jpeg:https://discoverpetworth.uk/wp-content/uploads/2021/04/Tidy-Up-spring-2021.jpeg
ORGANIZER;CN="Petworth Town Council":MAILTO:clerk@petworth-tc.gov.uk
END:VEVENT
BEGIN:VEVENT
DTSTART;TZID=UTC:20200222T090000
DTEND;TZID=UTC:20200222T130000
DTSTAMP:20260422T193335
CREATED:20200212T215935Z
LAST-MODIFIED:20200625T115935Z
UID:10002229-1582362000-1582376400@discoverpetworth.uk
SUMMARY:Petworth Farmers Market - February
DESCRIPTION:Petworth Farmers Market operates from 9.00am – 1.00pm every 4th Saturday of the month. \nGreat opportunity to come and support our local farmers who have grown or produced their food/plants within a 40 miles radius. If you are a business that would like to get involved in the Farmers Market please get in touch with –Leesa Barrett- petworthfarmersmarketinfo@gmail.com  or 07900 815636 \nLeconfield Hall is also available for those who would like to have a craft stall\, please contact Laura Smith on 01798 344 883.  Pop in for a cuppa and slice of cake and support the local organisation who will be your hosts for this month. \nLike and share our Facebook page.
URL:https://discoverpetworth.uk/event/petworth-farmers-market-february-2/
LOCATION:Market Square\, Petworth
CATEGORIES:Event,In Petworth,One Time,PETWORTH
ATTACH;FMTTYPE=image/jpeg:https://discoverpetworth.uk/wp-content/uploads/2020/02/IMG_6795.jpg
ORGANIZER;CN="Petworth Town Council":MAILTO:clerk@petworth-tc.gov.uk
END:VEVENT
END:VCALENDAR