BEGIN:VCALENDAR
VERSION:2.0
PRODID:-//discoverpetworth - ECPv6.15.20//NONSGML v1.0//EN
CALSCALE:GREGORIAN
METHOD:PUBLISH
X-WR-CALNAME:discoverpetworth
X-ORIGINAL-URL:https://discoverpetworth.uk
X-WR-CALDESC:Events for discoverpetworth
REFRESH-INTERVAL;VALUE=DURATION:PT1H
X-Robots-Tag:noindex
X-PUBLISHED-TTL:PT1H
BEGIN:VTIMEZONE
TZID:UTC
BEGIN:STANDARD
TZOFFSETFROM:+0000
TZOFFSETTO:+0000
TZNAME:UTC
DTSTART:20220101T000000
END:STANDARD
END:VTIMEZONE
BEGIN:VEVENT
DTSTART;TZID=UTC:20231211T181500
DTEND;TZID=UTC:20231211T191500
DTSTAMP:20260422T120039
CREATED:20230908T090939Z
LAST-MODIFIED:20230910T150750Z
UID:10005723-1702318500-1702322100@discoverpetworth.uk
SUMMARY:Petworth Youth Chorus
DESCRIPTION:Weekly in Term Time \n6.15pm – 7.15pm \nAre you in Year 7 and above? Then why not Join the new Petworth Youth Chorus!  \nEvery Monday in Term Time 6.15pm to 7.15pm at The United Reform Church.
URL:https://discoverpetworth.uk/event/petworth-youth-chorus/2023-12-11/
LOCATION:United Reform Church\, Petworth
CATEGORIES:Entertainment,Event,In Petworth,One Time,PETWORTH
ATTACH;FMTTYPE=image/jpeg:https://discoverpetworth.uk/wp-content/uploads/2023/09/petworth-youth-chorus.jpeg
ORGANIZER;CN="Petworth Youth Chorus":MAILTO:Petworthchorus@gmail.com
END:VEVENT
END:VCALENDAR