BEGIN:VCALENDAR
VERSION:2.0
PRODID:-//discoverpetworth - ECPv6.15.20//NONSGML v1.0//EN
CALSCALE:GREGORIAN
METHOD:PUBLISH
X-WR-CALNAME:discoverpetworth
X-ORIGINAL-URL:https://discoverpetworth.uk
X-WR-CALDESC:Events for discoverpetworth
REFRESH-INTERVAL;VALUE=DURATION:PT1H
X-Robots-Tag:noindex
X-PUBLISHED-TTL:PT1H
BEGIN:VTIMEZONE
TZID:UTC
BEGIN:STANDARD
TZOFFSETFROM:+0000
TZOFFSETTO:+0000
TZNAME:UTC
DTSTART:20230101T000000
END:STANDARD
END:VTIMEZONE
BEGIN:VEVENT
DTSTART;TZID=UTC:20240322T183000
DTEND;TZID=UTC:20240322T213000
DTSTAMP:20260423T020051
CREATED:20240213T143409Z
LAST-MODIFIED:20240213T143457Z
UID:10007188-1711132200-1711143000@discoverpetworth.uk
SUMMARY:Where to Watch Birds in Surrey & Sussex at Petworth Bookshop
DESCRIPTION:22 MARCH 2023 \n6.30pm – 9.30pm \nCome along and learn more about where to watch birds in both Surrey and Sussex. The bookshop in Petworth will host this event for all bird lovers\, please book your place as numbers are limited – Petworthbookshop@gmail.com \n 
URL:https://discoverpetworth.uk/event/where-to-watch-birds-in-surrey-sussex-at-petworth-bookshop/
LOCATION:The Petworth Bookshop\, The Old Bakery\, 1 Golden Square\, Petworth\, West Sussex\, GU28 0AP\, United Kingdom
CATEGORIES:Arts,Event,In Petworth,One Time,PETWORTH
ATTACH;FMTTYPE=image/jpeg:https://discoverpetworth.uk/wp-content/uploads/2024/02/9781399404235-surrey-and-sussex.jpg
ORGANIZER;CN="The Petworth Bookshop":MAILTO:petworthbookshop@gmail.com
END:VEVENT
BEGIN:VEVENT
DTSTART;TZID=UTC:20240308T183000
DTEND;TZID=UTC:20240308T213000
DTSTAMP:20260423T020051
CREATED:20240213T135759Z
LAST-MODIFIED:20240213T142923Z
UID:10007187-1709922600-1709933400@discoverpetworth.uk
SUMMARY:The Return of the Grey Partridge at The Petworth Bookshop
DESCRIPTION:8 MARCH 2023 \n6.30pm – 9.30pm \nJoin us at 6.30 PM on Friday the 8th March for the launch of local author Roger Morgan-Grenville’s latest book. Written in collaboration with the Duke of Arundel\, The Return of the Grey Partridge\, charts over the course of one year the return of Arundel Estate to a re-natured state leaving behind the more destructive methods of modern agriculture. Descriptions of both the people involved and the natural world give a powerful sense of the estate coming back to life. \nPlease email the bookshop as numbers are limited – petworthbookshop@gmail.com
URL:https://discoverpetworth.uk/event/the-retune-of-the-grey-partridge-at-the-petworth-bookshop/
LOCATION:The Petworth Bookshop\, The Old Bakery\, 1 Golden Square\, Petworth\, West Sussex\, GU28 0AP\, United Kingdom
CATEGORIES:Arts,Event,In Petworth,One Time,PETWORTH
ATTACH;FMTTYPE=image/jpeg:https://discoverpetworth.uk/wp-content/uploads/2024/02/the-return-of-the-grey-partridge.jpeg
ORGANIZER;CN="The Petworth Bookshop":MAILTO:petworthbookshop@gmail.com
END:VEVENT
END:VCALENDAR