BEGIN:VCALENDAR
VERSION:2.0
PRODID:-//discoverpetworth - ECPv6.15.20//NONSGML v1.0//EN
CALSCALE:GREGORIAN
METHOD:PUBLISH
X-ORIGINAL-URL:https://discoverpetworth.uk
X-WR-CALDESC:Events for discoverpetworth
REFRESH-INTERVAL;VALUE=DURATION:PT1H
X-Robots-Tag:noindex
X-PUBLISHED-TTL:PT1H
BEGIN:VTIMEZONE
TZID:UTC
BEGIN:STANDARD
TZOFFSETFROM:+0000
TZOFFSETTO:+0000
TZNAME:UTC
DTSTART:20190101T000000
END:STANDARD
END:VTIMEZONE
BEGIN:VEVENT
DTSTART;TZID=UTC:20210918T200000
DTEND;TZID=UTC:20210918T230000
DTSTAMP:20260422T193810
CREATED:20210908T155634Z
LAST-MODIFIED:20210908T155634Z
UID:10002534-1631995200-1632006000@discoverpetworth.uk
SUMMARY:The FOCS at The Star
DESCRIPTION:18 SEPTEMBER 2021 \n8.00pm- 11.00pm \nLIVE MUSIC! \nCome along and rock your socks off! All your favourites from the 60s through to present day — join us on the night to enjoy a foot-tapping\, fun-filled extravaganza!
URL:https://discoverpetworth.uk/event/the-focs-at-the-star/
LOCATION:The Star Petworth\, Market Square\, Petworth\, West Sussex\, GU280AH\, United Kingdom
CATEGORIES:Arts,Entertainment,Event,Food & Drinks,In Petworth,One Time,PETWORTH
ATTACH;FMTTYPE=image/jpeg:https://discoverpetworth.uk/wp-content/uploads/2021/09/241629531_4250653411728146_241866536404897673_n.jpeg
END:VEVENT
BEGIN:VEVENT
DTSTART;TZID=UTC:20200327T200000
DTEND;TZID=UTC:20200327T203000
DTSTAMP:20260422T193810
CREATED:20200311T160712Z
LAST-MODIFIED:20200311T161042Z
UID:10002640-1585339200-1585341000@discoverpetworth.uk
SUMMARY:Well Burger Me\, Its Massive Eating Contest 2020
DESCRIPTION:27 MARCH 2020 \n8.00pm – 8.30pm \nFollowing the massive success of The Star Chicken Wing Challenge you wanted more…. So.. The Star ‘Well Burger Me.. Its MASSIVE’ Eating Contest 2020 is on Friday 27th March at 20:00. Think you’ve got what it takes to devour 8 x 4oz (32oz/2 pounds) beef burgers piled with cheese\, bacon & garnish? The first to finish will claim the winning title (15 minute time limit will apply) We are looking for 8 ‘Well Burger Me.. Its MASSIVE’ eating monsters who are super excited…. To enter email: enquiries@petworthstar.co.uk & tell us why YOU should take part! The prize is free beer for a month in April…. T&C apply…
URL:https://discoverpetworth.uk/event/well-burger-me-its-massive-eating-contest-2020/
LOCATION:The Star Petworth\, Market Square\, Petworth\, West Sussex\, GU280AH\, United Kingdom
CATEGORIES:Event,Food & Drinks,In Petworth,One Time,PETWORTH
ATTACH;FMTTYPE=image/jpeg:https://discoverpetworth.uk/wp-content/uploads/2020/03/89543253_2746694528790716_5554009599880724480_n.jpg
END:VEVENT
BEGIN:VEVENT
DTSTART;TZID=UTC:20200322T120000
DTEND;TZID=UTC:20200322T160000
DTSTAMP:20260422T193810
CREATED:20200311T172339Z
LAST-MODIFIED:20200311T172339Z
UID:10002271-1584878400-1584892800@discoverpetworth.uk
SUMMARY:Mother's Day at The Star
DESCRIPTION:22 MARCH 2020 \n12.00pm – 4.00pm \nEnjoy 😊 Mother’s Day with us at The Star. Book a table with us & all mothers will receive a complimentary glass of Prosecco… call 01798 368114 or book online.
URL:https://discoverpetworth.uk/event/mothers-day-at-the-star/
LOCATION:The Star Petworth\, Market Square\, Petworth\, West Sussex\, GU280AH\, United Kingdom
CATEGORIES:Event,Food & Drinks,In Petworth,One Time,PETWORTH
ATTACH;FMTTYPE=image/jpeg:https://discoverpetworth.uk/wp-content/uploads/2020/03/89658487_2746754052118097_5419647552389644288_o.jpg
END:VEVENT
BEGIN:VEVENT
DTSTART;TZID=UTC:20200314T210000
DTEND;TZID=UTC:20200314T233000
DTSTAMP:20260422T193810
CREATED:20200311T160144Z
LAST-MODIFIED:20200311T160144Z
UID:10002638-1584219600-1584228600@discoverpetworth.uk
SUMMARY:The Star St Patrick's Karaoke Night
DESCRIPTION:14 MARCH 2020 \n9.00pm – 12.00am \nJoin us this Saturday night (14th March) for The Star St Patrick’s Karaoke 🎤…
URL:https://discoverpetworth.uk/event/the-star-st-patricks-karaoke-night/
LOCATION:The Star Petworth\, Market Square\, Petworth\, West Sussex\, GU280AH\, United Kingdom
CATEGORIES:Event,Food & Drinks,In Petworth,One Time,PETWORTH
ATTACH;FMTTYPE=image/jpeg:https://discoverpetworth.uk/wp-content/uploads/2020/03/89740887_2746498828810286_4138253233678188544_o.jpg
END:VEVENT
BEGIN:VEVENT
DTSTART;TZID=UTC:20200314T190000
DTEND;TZID=UTC:20200314T200000
DTSTAMP:20260422T193810
CREATED:20200311T155714Z
LAST-MODIFIED:20200311T155714Z
UID:10002636-1584212400-1584216000@discoverpetworth.uk
SUMMARY:Happy Hour Buy 2 Get 1 Free
DESCRIPTION:14 MARCH 2020 \n7.00pm – 8.00pm \nJoin us on Saturday night for Happy Hour between 19:00-20:00. \nBuy 2 Get 1 Free on all drinks from the bar. \nIt’s also St Patricks Karaoke Night so make an evening of it at The Star
URL:https://discoverpetworth.uk/event/happy-hour-buy-2-get-1-free/
LOCATION:The Star Petworth\, Market Square\, Petworth\, West Sussex\, GU280AH\, United Kingdom
CATEGORIES:Event,Food & Drinks,In Petworth,One Time,PETWORTH
ATTACH;FMTTYPE=image/jpeg:https://discoverpetworth.uk/wp-content/uploads/2020/03/89505858_2746478952145607_4039021626371604480_o.jpg
END:VEVENT
END:VCALENDAR