BEGIN:VCALENDAR
VERSION:2.0
PRODID:-//discoverpetworth - ECPv6.15.20//NONSGML v1.0//EN
CALSCALE:GREGORIAN
METHOD:PUBLISH
X-WR-CALNAME:discoverpetworth
X-ORIGINAL-URL:https://discoverpetworth.uk
X-WR-CALDESC:Events for discoverpetworth
REFRESH-INTERVAL;VALUE=DURATION:PT1H
X-Robots-Tag:noindex
X-PUBLISHED-TTL:PT1H
BEGIN:VTIMEZONE
TZID:UTC
BEGIN:STANDARD
TZOFFSETFROM:+0000
TZOFFSETTO:+0000
TZNAME:UTC
DTSTART:20200101T000000
END:STANDARD
END:VTIMEZONE
BEGIN:VEVENT
DTSTART;TZID=UTC:20221008T090000
DTEND;TZID=UTC:20221008T150000
DTSTAMP:20260423T122948
CREATED:20221005T114029Z
LAST-MODIFIED:20221005T114029Z
UID:10002940-1665219600-1665241200@discoverpetworth.uk
SUMMARY:Wil Dar Vik Vintage
DESCRIPTION:8 OCTOBER 2022 \n9.00am – 3.00pm \nLovely vintage items and brand-new crystal items! Pop in and say hello
URL:https://discoverpetworth.uk/event/wil-dar-vik-vintage/
LOCATION:Leconfield Hall
CATEGORIES:Event,In Petworth,One Time,PETWORTH
ATTACH;FMTTYPE=image/jpeg:https://discoverpetworth.uk/wp-content/uploads/2022/10/Vikki.jpeg
END:VEVENT
BEGIN:VEVENT
DTSTART;TZID=UTC:20220514T090000
DTEND;TZID=UTC:20220514T150000
DTSTAMP:20260423T122948
CREATED:20220511T082257Z
LAST-MODIFIED:20220511T082257Z
UID:10005750-1652518800-1652540400@discoverpetworth.uk
SUMMARY:Antiques\, Vintage and More
DESCRIPTION:14 MAY 2022 \n9.00am – 3.00pm \nA place for independent sellers to come and sell their products.
URL:https://discoverpetworth.uk/event/antiques-vintage-and-more-2/
LOCATION:Leconfield Hall
CATEGORIES:Event,In Petworth,One Time,PETWORTH
ATTACH;FMTTYPE=image/jpeg:https://discoverpetworth.uk/wp-content/uploads/2022/05/Antiques-Leconfield-Hall.jpeg
END:VEVENT
BEGIN:VEVENT
DTSTART;TZID=UTC:20220326T090000
DTEND;TZID=UTC:20220326T150000
DTSTAMP:20260423T122948
CREATED:20220324T194505Z
LAST-MODIFIED:20220324T201520Z
UID:10004181-1648285200-1648306800@discoverpetworth.uk
SUMMARY:Antiques\, Vintage and More…
DESCRIPTION:26 APRIL 2022 \n9.00am – 3.00pm \nA place for independent sellers to come and sell their products.
URL:https://discoverpetworth.uk/event/antiques-vintage-and-more/
LOCATION:Leconfield Hall
CATEGORIES:Arts,Event,In Petworth,One Time,PETWORTH
ATTACH;FMTTYPE=image/jpeg:https://discoverpetworth.uk/wp-content/uploads/2022/03/273570387_362696579189975_5984213305175600785_n.jpeg
END:VEVENT
BEGIN:VEVENT
DTSTART;TZID=UTC:20211105T090000
DTEND;TZID=UTC:20211105T150000
DTSTAMP:20260423T122948
CREATED:20211027T093324Z
LAST-MODIFIED:20211027T093324Z
UID:10002639-1636102800-1636124400@discoverpetworth.uk
SUMMARY:Antique and Vintage Sale
DESCRIPTION:5 NOVEMBER 2021 \n9.00am – 3.00pm \n \nFurniture\, glassware\, homewares\, ceramics\, upcycled furniture\, handmade vintage items. All for sale from local suppliers.
URL:https://discoverpetworth.uk/event/antique-and-vintage-sale-2/
LOCATION:Leconfield Hall
CATEGORIES:Event,In Petworth,One Time,PETWORTH
ATTACH;FMTTYPE=image/jpeg:https://discoverpetworth.uk/wp-content/uploads/2021/10/247819539_290389679753999_2015243491356896549_n.jpeg
END:VEVENT
END:VCALENDAR