BEGIN:VCALENDAR
VERSION:2.0
PRODID:-//discoverpetworth - ECPv6.15.20//NONSGML v1.0//EN
CALSCALE:GREGORIAN
METHOD:PUBLISH
X-WR-CALNAME:discoverpetworth
X-ORIGINAL-URL:https://discoverpetworth.uk
X-WR-CALDESC:Events for discoverpetworth
REFRESH-INTERVAL;VALUE=DURATION:PT1H
X-Robots-Tag:noindex
X-PUBLISHED-TTL:PT1H
BEGIN:VTIMEZONE
TZID:UTC
BEGIN:STANDARD
TZOFFSETFROM:+0000
TZOFFSETTO:+0000
TZNAME:UTC
DTSTART:20190101T000000
END:STANDARD
END:VTIMEZONE
BEGIN:VEVENT
DTSTART;TZID=UTC:20220701T183000
DTEND;TZID=UTC:20220701T203000
DTSTAMP:20260422T211545
CREATED:20220623T115539Z
LAST-MODIFIED:20220623T115539Z
UID:10005909-1656700200-1656707400@discoverpetworth.uk
SUMMARY:Petworth Late: A Turner Art Escape
DESCRIPTION:1 JULY 2022 \n6.30pm – 8.30pm \nExplore Petworth House and discover 19 paintings by painter J.M.W. Turner (1775 – 1851)\, along with other collection treasures. The evening includes music from a string duo\, highlight talks\, a free welcome drink on arrival and a pay-for bar. Your ticket also includes entry to the Frank Auerbach: Unseen exhibition at Newlands House Gallery\, open until 14 August. This visit is not included in the evening event\, ticket holders must make their own way to the gallery during visiting hours. \nBooking essential via nationaltrust.org.uk/petworth
URL:https://discoverpetworth.uk/event/petworth-late-a-turner-art-escape/
LOCATION:Petworth House
CATEGORIES:Entertainment,Event,Food & Drinks,In Petworth,One Time,PETWORTH
ATTACH;FMTTYPE=image/jpeg:https://discoverpetworth.uk/wp-content/uploads/2022/06/Petworth-House-late-opening-©National-TrustSarah-Taylor.jpg
END:VEVENT
BEGIN:VEVENT
DTSTART;TZID=UTC:20220623T080000
DTEND;TZID=UTC:20220623T170000
DTSTAMP:20260422T211545
CREATED:20220623T142510Z
LAST-MODIFIED:20220623T142528Z
UID:10005912-1655971200-1656003600@discoverpetworth.uk
SUMMARY:Drawing and Painting Trees in Petworth Park
DESCRIPTION:24 AUGUST 2022 \n10.30am -3.30pm \nJoin this outdoor art workshop led by Helen Kelly\, an experienced and friendly tutor from Aspire Sussex. Amongst the ancient trees in Petworth Park you will learn how to choose a suitable subject and how to plan and draw out your composition. You will be shown a wide range of drawing techniques\, how to match colours and a wide range of watercolour techniques. The tutor will be on hand to give Individual and one to one help throughout the day. \n 
URL:https://discoverpetworth.uk/event/drawing-and-painting-trees-in-petworth-park-2/
LOCATION:Petworth House
CATEGORIES:Arts,Event,In Petworth,One Time,PETWORTH
ATTACH;FMTTYPE=image/jpeg:https://discoverpetworth.uk/wp-content/uploads/2022/06/petworth-park.jpeg
END:VEVENT
BEGIN:VEVENT
DTSTART;TZID=UTC:20220409T100000
DTEND;TZID=UTC:20220424T170000
DTSTAMP:20260422T211545
CREATED:20220406T165431Z
LAST-MODIFIED:20220406T165431Z
UID:10004928-1649498400-1650819600@discoverpetworth.uk
SUMMARY:Easter adventures in nature trail
DESCRIPTION:9 –  24 APRIL 2022 \n10.00am – 5.00pm \n\nAt the start of your Easter adventures in nature trail\, pick up your activity sheet from the Shepherds’ Hut to find the bespoke trail you’re going to follow. Find and complete the 10 nature-inspired activities that are hiding along the way\, including discovering a mini mouse house and adding the crochet flower to our blossom tree. Finish the trail and collect your Rainforest Alliance chocolate egg or an allergen-free alternative at the end (where available).\n\n\n£3 per child\, please note we are only accepting payment by card. Normal admission fees apply\, free for National Trust members\nSaturday 9 – Sunday 24 April\, 10am-5pm\, last purchase/entry 
URL:https://discoverpetworth.uk/event/easter-adventures-in-nature-trail/
LOCATION:Petworth House
CATEGORIES:Event,In Petworth,On Going,PETWORTH,Recreation
ATTACH;FMTTYPE=image/jpeg:https://discoverpetworth.uk/wp-content/uploads/2022/04/277532969_5026321274077600_1361759234610673138_n-e1649264108862.jpeg
END:VEVENT
BEGIN:VEVENT
DTSTART;TZID=UTC:20211218T110000
DTEND;TZID=UTC:20211219T153000
DTSTAMP:20260422T211545
CREATED:20211216T102851Z
LAST-MODIFIED:20211216T102851Z
UID:10002982-1639825200-1639927800@discoverpetworth.uk
SUMMARY:Carols in the Courtyard at Petworth House
DESCRIPTION:18 – 19 DECEMBER 2021 \n11.00am & 3.30pm \nJoin us and local choirs from West Sussex Sings for joyful renditions of classic Carols. There will be two performances between 11am and 3.30pm on Sat 18 & Sun 19 Dec. \nNo booking required\, normal admission applies.
URL:https://discoverpetworth.uk/event/carols-in-the-courtyard-at-petworth-house/
LOCATION:Petworth House
CATEGORIES:Entertainment,Event,In Petworth,On Going,PETWORTH
ATTACH;FMTTYPE=image/jpeg:https://discoverpetworth.uk/wp-content/uploads/2021/12/259377311_4604371632939235_2891758928453167349_n.jpeg
END:VEVENT
BEGIN:VEVENT
DTSTART;TZID=UTC:20211216T103000
DTEND;TZID=UTC:20211216T133000
DTSTAMP:20260422T211545
CREATED:20211118T123208Z
LAST-MODIFIED:20211118T123208Z
UID:10002665-1639650600-1639661400@discoverpetworth.uk
SUMMARY:Christmas Cake Decoration Modelling
DESCRIPTION:16 DECEMBER 2021 \n10:30am-1:30pm \nLearn how to make a Father Christmas and reindeer from sugar paste. The workshop involves a demonstration on how to achieve the models and an opportunity for you to make your own. Course run by Aspire Sussex. £40 per person. Booking essential. \nTo book visit www.nationaltrust.org.uk/petworth-house-and-park
URL:https://discoverpetworth.uk/event/christmas-cake-decoration-modelling/
LOCATION:Petworth House
CATEGORIES:Entertainment,Event,Food & Drinks,In Petworth,One Time,PETWORTH
ATTACH;FMTTYPE=image/jpeg:https://discoverpetworth.uk/wp-content/uploads/2021/11/Christmas-modelling-credit-Aspire-Sussex-scaled.jpg
END:VEVENT
BEGIN:VEVENT
DTSTART;TZID=UTC:20211212T113000
DTEND;TZID=UTC:20211212T120000
DTSTAMP:20260422T211545
CREATED:20211118T124125Z
LAST-MODIFIED:20211118T124125Z
UID:10002667-1639308600-1639310400@discoverpetworth.uk
SUMMARY:Theatre Inc. from Chichester College
DESCRIPTION:12 DECEMBER 2021 \n11.30am – 12.00pm \nTheatre Inc. is an award winning\, specialised training company that supports young performers living with disability to develop independent life skills and create theatre that defies expectation. They will be bringing festive cheer to the Gardens at Petworth with a wintery performance.
URL:https://discoverpetworth.uk/event/theatre-inc-from-chichester-college/
LOCATION:Petworth House
CATEGORIES:Arts,Entertainment,Event,In Petworth,One Time
ATTACH;FMTTYPE=image/jpeg:https://discoverpetworth.uk/wp-content/uploads/2021/11/Chichester-colleage-performance-©National-Trust-scaled.jpg
END:VEVENT
BEGIN:VEVENT
DTSTART;TZID=UTC:20211204T100000
DTEND;TZID=UTC:20220103T153000
DTSTAMP:20260422T211545
CREATED:20211118T121908Z
LAST-MODIFIED:20211118T121908Z
UID:10002970-1638612000-1641223800@discoverpetworth.uk
SUMMARY:Percy the Park Keeper's winter wander trail at Petworth
DESCRIPTION:4 DECEMBER 2021 –  3 JANUARY 2022  \n10.00am – 3.30pm \nHave fun exploring the Pleasure Garden at Petworth\, as you help Percy and his animal friends while following the clues and completing the winter activities. £2 per child.
URL:https://discoverpetworth.uk/event/percy-the-park-keepers-winter-wander-trail-at-petworth/
LOCATION:Petworth House
CATEGORIES:Event,In Petworth,On Going,PETWORTH,Recreation
ATTACH;FMTTYPE=image/jpeg:https://discoverpetworth.uk/wp-content/uploads/2021/11/Percy-Winter-Trail-©National-Trust-Images-Chris-Lacey-scaled.jpg
END:VEVENT
BEGIN:VEVENT
DTSTART;TZID=UTC:20211127T103000
DTEND;TZID=UTC:20220103T153000
DTSTAMP:20260422T211545
CREATED:20211118T121601Z
LAST-MODIFIED:20211118T121601Z
UID:10002968-1638009000-1641223800@discoverpetworth.uk
SUMMARY:Festive traditions through time in Petworth House
DESCRIPTION:27 NOVEMBER 2021 –  3 JANUARY 2022 \n10:30am-3:30pm \nSpend the 2021 festive season at Petworth\, and discover different Christmas traditions celebrated through the years\, including Georgian\, Victorian\, post-war and the future. From period costumes crafted by hand with garden greenery to mystical future decorations\, there will be something for all the family to enjoy. \nLast entry to the house is at 3pm.
URL:https://discoverpetworth.uk/event/festive-traditions-through-time-in-petworth-house/
LOCATION:Petworth House
CATEGORIES:Arts,Event,In Petworth,On Going,PETWORTH,Tours
ATTACH;FMTTYPE=image/jpeg:https://discoverpetworth.uk/wp-content/uploads/2021/11/Christmas-credit-©National-Trust-ImagesJohn-Millar-scaled.jpg
END:VEVENT
BEGIN:VEVENT
DTSTART;TZID=UTC:20211127T103000
DTEND;TZID=UTC:20211128T133000
DTSTAMP:20260422T211545
CREATED:20211118T122830Z
LAST-MODIFIED:20211118T122830Z
UID:10002663-1638009000-1638106200@discoverpetworth.uk
SUMMARY:Sustainable Christmas Workshop
DESCRIPTION:27 – 28 NOVEMBER 2021 \n10:30am-1:30pm \nCreate beautiful gift wrap\, gift tags and cards to take home\, and learn to use a range of printing techniques to add Christmas cheer to your gifts and greeting cards. All materials are provided. Workshop run by Aspire Sussex. £30 per person. \nBooking essential at www.nationaltrust.org.uk/petworth-house-and-park
URL:https://discoverpetworth.uk/event/sustainable-christmas-workshop/
LOCATION:Petworth House
CATEGORIES:Arts,Entertainment,Event,In Petworth,On Going,PETWORTH
ATTACH;FMTTYPE=image/jpeg:https://discoverpetworth.uk/wp-content/uploads/2021/11/Sustainable-christmas-credit-Aspire-Sussex-scaled.jpg
END:VEVENT
BEGIN:VEVENT
DTSTART;TZID=UTC:20210925T100000
DTEND;TZID=UTC:20210925T160000
DTSTAMP:20260422T211545
CREATED:20210708T121637Z
LAST-MODIFIED:20210708T121637Z
UID:10002780-1632564000-1632585600@discoverpetworth.uk
SUMMARY:Photography - Petworth Park - The Intimate Landscape
DESCRIPTION:Various Dates \n16 JULY 11.00am – 4.00pm \n25 SEPTEMBER 11.00am – 4.00pm \n\n\n\n\nWe are delighted to offer an exciting range of learning experiences that can be enjoyed outside\, within Petworth Park’s beautiful grounds.\n\n\n\n\n\nAbout this event\n\n\nThis workshop will teach the ideas around landscape photography in the glorious grounds of Petworth House Deer Park. You will learn different creative approaches to landscape photography from the grand sweeping vista to the intimate details that can evoke grand themes and emotions. \nLearn how the camera sees\, and how this can be creatively used to make stunning images\, whether that’s creative use of depth of field or dynamic compositional techniques to add drama to your pictures. \nLearn different approaches to landscape photography\, it is NOT always about the view! We will look at some creative techniques such as Intentional Camera Movement to make images with an almost painterly feel. \nLearn what images would work best in black and white or colour and why? \nThere is a 30 minute lunch break included in the session\, so please bring your own lunch and refreshments. \nPlease note that this event will run outside\, within the stunning grounds of Petworth Park. Therefore\, in order to gain the most from this experience\, please read the information below. \nRead more….
URL:https://discoverpetworth.uk/event/photography-petworth-park-the-intimate-landscape/2021-09-25/
LOCATION:Petworth House
CATEGORIES:Arts,Event,In Petworth,One Time,PETWORTH
ATTACH;FMTTYPE=image/jpeg:https://discoverpetworth.uk/wp-content/uploads/2021/07/https___cdn.evbuc_.com_images_135727471_225226415530_1_original.jpeg
END:VEVENT
BEGIN:VEVENT
DTSTART;TZID=UTC:20210922T110000
DTEND;TZID=UTC:20210922T160000
DTSTAMP:20260422T211545
CREATED:20210708T114334Z
LAST-MODIFIED:20210708T114334Z
UID:10002778-1632308400-1632326400@discoverpetworth.uk
SUMMARY:Positive Wellbeing Workshop
DESCRIPTION:Various Dates and Times \n12 JULY  11am – 1pm & 2pm – 4pm \n22 SEPTEMBER 11am – 1pm & 2pm – 4pm \n\n\n\n\nWe are delighted to offer an exciting range of learning experiences that can be enjoyed outside\, within Petworth Park’s beautiful grounds.\n\n\n\n\n\nAbout this event\n\n\nDrawing on the latest research\, this session will explore some simple\, practical and scientifically proven ways to increase your happiness\, helping you identify specific\, achievable actions that can make a positive and lasting difference to your wellbeing. Using simple\, interactive activities and exercises\, this session will cover: \n\n\n 	Taking better care of yourself\n 	Building resilience for life’s ups and downs\n 	Cultivating a positive mind-set\n\nPlease note that this event will run outside\, within the stunning grounds of Petworth Park. Therefore\, in order to gain the most from this experience\, please read the information below. \nRead more…
URL:https://discoverpetworth.uk/event/positive-wellbeing-workshop/2021-09-22/
LOCATION:Petworth House
CATEGORIES:Arts,Event,In Petworth,One Time,PETWORTH
ATTACH;FMTTYPE=image/jpeg:https://discoverpetworth.uk/wp-content/uploads/2021/07/https___cdn.evbuc_.com_images_135727409_225226415530_1_original.jpeg
END:VEVENT
BEGIN:VEVENT
DTSTART;TZID=UTC:20210703T103000
DTEND;TZID=UTC:20210919T170000
DTSTAMP:20260422T211545
CREATED:20210624T095807Z
LAST-MODIFIED:20210624T095902Z
UID:10002514-1625308200-1632070800@discoverpetworth.uk
SUMMARY:Lucy Marks’ Dawn to Dusk art exhibition at Petworth
DESCRIPTION:3 JULY – 19 SEPTEMBER  2021 \n10.30am – 5.00pm \n\nSussex artist Lucy Marks is following in J.M.W. Turner’s footsteps for her solo exhibition Dawn to Dusk at Petworth House. Saturday 3 July – Sunday 19 September 2021\, 10:30am-4:30pm.\nThis summer you can discover 55 paintings in oil and watercolour that were inspired by the Deer Park at Petworth\, by award-winning painter Lucy Marks. She has spent six months painting the 700-acres of countryside that makes up the ‘Capability’ Brown parkland\, with the theme behind her work inspired by famous landscape painter J.M.W. Turner. Paintings are available to buy.\nDawn to Dusk is open in the Servants’ Quarters at Petworth House and Park from Saturday 3 July – Sunday 19 September 2021\, 10:30am-4:30pm. Visitors are required to purchase a ticket to the site to enter\, free for National Trust members. To book an entry ticket visit Petworth’s website: https://www.nationaltrust.org.uk/petworth-house-and-park
URL:https://discoverpetworth.uk/event/lucy-marks-dawn-to-dusk-art-exhibition-at-petworth/
LOCATION:Petworth House
CATEGORIES:Arts,Event,In Petworth,On Going,PETWORTH,Tours
ATTACH;FMTTYPE=image/jpeg:https://discoverpetworth.uk/wp-content/uploads/2021/06/202040193_4134937479882655_6563643025889993471_n.jpeg
END:VEVENT
BEGIN:VEVENT
DTSTART;TZID=UTC:20210604T110000
DTEND;TZID=UTC:20210925T170000
DTSTAMP:20260422T211545
CREATED:20210524T160354Z
LAST-MODIFIED:20210524T160442Z
UID:10002716-1622804400-1632589200@discoverpetworth.uk
SUMMARY:Learning in the Landscape at Petworth Park
DESCRIPTION:4 JUNE – 25 SEPTEMBER 2021 \nVarious Times \nEnjoy yoga\, photography and art courses at Petworth Park run by Aspire Sussex from Fri 4 Jun – Sat 25 Sep 2021. Here\, you can experience a backdrop of rich countryside with herds of majestic deer roaming around\, as you learn from experienced Aspire Sussex tutors about how to begin or enhance your creative skills\, Times\, prices and dates vary. \n\n\n\n\nTo book and see the full course list visit: https://www.eventbrite.co.uk/o/aspire-sussex-18023295063\nPhoto credit – National Trust images John Miller
URL:https://discoverpetworth.uk/event/learning-in-the-landscape-at-petworth-park/
LOCATION:Petworth House
CATEGORIES:In Petworth,On Going,PETWORTH,Recreation
ATTACH;FMTTYPE=image/jpeg:https://discoverpetworth.uk/wp-content/uploads/2021/05/Learning-in-the-Landscape-Credit-©National-Trust-ImagesJohn-Miller.jpg
END:VEVENT
BEGIN:VEVENT
DTSTART;TZID=UTC:20200322T110000
DTEND;TZID=UTC:20200322T150000
DTSTAMP:20260422T211545
CREATED:20200212T215937Z
LAST-MODIFIED:20200311T171938Z
UID:10002502-1584874800-1584889200@discoverpetworth.uk
SUMMARY:Mother's Day Crafts
DESCRIPTION:22 MARCH 2020 \n11.00am – 3.00pm \nCreate a personalised frame for Mum at Petworth this Mother’s Day weekend\, while she relaxes with a complementary cup of tea and a biscuit. £5.00 per craft. No booking needed. \n\n\n\n\n\nWebsite
URL:https://discoverpetworth.uk/event/mothers-day-crafts-2/
LOCATION:Petworth House
CATEGORIES:Event,In Petworth,One Time,PETWORTH
ATTACH;FMTTYPE=image/jpeg:https://discoverpetworth.uk/wp-content/uploads/2020/02/82348710_2735329999843417_4038457516777013248_o.jpg
END:VEVENT
END:VCALENDAR